BEGIN:VCALENDAR
VERSION:2.0
PRODID:-//Cow Country Radio - ECPv6.15.20//NONSGML v1.0//EN
CALSCALE:GREGORIAN
METHOD:PUBLISH
X-ORIGINAL-URL:https://www.cowcountry.us
X-WR-CALDESC:Events for Cow Country Radio
REFRESH-INTERVAL;VALUE=DURATION:PT1H
X-Robots-Tag:noindex
X-PUBLISHED-TTL:PT1H
BEGIN:VTIMEZONE
TZID:America/Chicago
BEGIN:DAYLIGHT
TZOFFSETFROM:-0600
TZOFFSETTO:-0500
TZNAME:CDT
DTSTART:20240310T080000
END:DAYLIGHT
BEGIN:STANDARD
TZOFFSETFROM:-0500
TZOFFSETTO:-0600
TZNAME:CST
DTSTART:20241103T070000
END:STANDARD
BEGIN:DAYLIGHT
TZOFFSETFROM:-0600
TZOFFSETTO:-0500
TZNAME:CDT
DTSTART:20250309T080000
END:DAYLIGHT
BEGIN:STANDARD
TZOFFSETFROM:-0500
TZOFFSETTO:-0600
TZNAME:CST
DTSTART:20251102T070000
END:STANDARD
BEGIN:DAYLIGHT
TZOFFSETFROM:-0600
TZOFFSETTO:-0500
TZNAME:CDT
DTSTART:20260308T080000
END:DAYLIGHT
BEGIN:STANDARD
TZOFFSETFROM:-0500
TZOFFSETTO:-0600
TZNAME:CST
DTSTART:20261101T070000
END:STANDARD
END:VTIMEZONE
BEGIN:VEVENT
DTSTART;TZID=America/Chicago:20250306T190000
DTEND;TZID=America/Chicago:20250309T170000
DTSTAMP:20260422T110015
CREATED:20250305T124216Z
LAST-MODIFIED:20250305T124216Z
UID:1137-1741287600-1741539600@www.cowcountry.us
SUMMARY:Legally Blonde - The Musical\, Plymouth High School
DESCRIPTION:Plymouth High School will be presenting the award-winning “Legally Blonde” as its annual musical March 6-9. \n“Legally Blonde the Musical\,” based on the movie of the same name\, tells the story of Elle Woods\, who initially appears to have it all but then finds her life turned upside down when her boyfriend Warner dumps her so he can attend Harvard Law. \nPerformances will begin at 7 p.m. nightly from Thursday March 6 through Saturday March 8\, with a matinee at 2 p.m. Sunday March 9\, in the school auditorium\, 125 S. Highland Ave. Reserved-seating tickets are $10 and are available from 7 a.m. to 3:30 p.m. in the PHS office (enter Door 1G); any remaining tickets will be available at the door.
URL:https://www.cowcountry.us/event/legally-blonde-the-musical-plymouth-high-school/
LOCATION:Plymouth Comprehensive High School\, 125 S Highland Ave\, Plymouth\, WI\, 53073\, United States
END:VEVENT
BEGIN:VEVENT
DTSTART;TZID=America/Chicago:20250308T130000
DTEND;TZID=America/Chicago:20250308T160000
DTSTAMP:20260422T110015
CREATED:20250303T154709Z
LAST-MODIFIED:20250303T154709Z
UID:1118-1741438800-1741449600@www.cowcountry.us
SUMMARY:Winter Wine Walk
DESCRIPTION:Get ready to sip\, stroll\, and shop at Sheboygan’s Winter Wine Walk!\nWander through the Downtown\, Riverfront\, and South Pier as local businesses become cozy tasting rooms\, serving up sweet and dry wines or refreshing mocktails!\nYour ticket includes a souvenir glass\, and lanyard.\nDon’t miss this unforgettable afternoon of flavors and fun!\nSheboygan’s Winter Wine Walk\, – Sip\, Stroll\, and Savor! \n\n\nSelect your 12 wine samples (2 ounces) from the numerous options available at different businesses. You’re sure to find something you enjoy. \n\nWine Ticket – $25\nChoose the type of wine to sample at each stop depending on your preferences at the time\, rather than being tied to one type or another. \nMocktail Ticket – $10\nA night of fun doesn’t have to include alcohol! Try out various mocktails and non-alcoholic beverages.
URL:https://www.cowcountry.us/event/winter-wine-walk/
LOCATION:Sheboygan Lakefront
END:VEVENT
END:VCALENDAR