BEGIN:VCALENDAR
VERSION:2.0
PRODID:-//Cow Country Radio - ECPv6.15.20//NONSGML v1.0//EN
CALSCALE:GREGORIAN
METHOD:PUBLISH
X-WR-CALNAME:Cow Country Radio
X-ORIGINAL-URL:https://www.cowcountry.us
X-WR-CALDESC:Events for Cow Country Radio
REFRESH-INTERVAL;VALUE=DURATION:PT1H
X-Robots-Tag:noindex
X-PUBLISHED-TTL:PT1H
BEGIN:VTIMEZONE
TZID:America/Chicago
BEGIN:DAYLIGHT
TZOFFSETFROM:-0600
TZOFFSETTO:-0500
TZNAME:CDT
DTSTART:20240310T080000
END:DAYLIGHT
BEGIN:STANDARD
TZOFFSETFROM:-0500
TZOFFSETTO:-0600
TZNAME:CST
DTSTART:20241103T070000
END:STANDARD
BEGIN:DAYLIGHT
TZOFFSETFROM:-0600
TZOFFSETTO:-0500
TZNAME:CDT
DTSTART:20250309T080000
END:DAYLIGHT
BEGIN:STANDARD
TZOFFSETFROM:-0500
TZOFFSETTO:-0600
TZNAME:CST
DTSTART:20251102T070000
END:STANDARD
BEGIN:DAYLIGHT
TZOFFSETFROM:-0600
TZOFFSETTO:-0500
TZNAME:CDT
DTSTART:20260308T080000
END:DAYLIGHT
BEGIN:STANDARD
TZOFFSETFROM:-0500
TZOFFSETTO:-0600
TZNAME:CST
DTSTART:20261101T070000
END:STANDARD
END:VTIMEZONE
BEGIN:VEVENT
DTSTART;VALUE=DATE:20250316
DTEND;VALUE=DATE:20250317
DTSTAMP:20260422T110338
CREATED:20250224T185303Z
LAST-MODIFIED:20250224T185659Z
UID:1105-1742083200-1742169599@www.cowcountry.us
SUMMARY:Plymouth & Elkhart Lake Fire Fund Raiser
DESCRIPTION:
URL:https://www.cowcountry.us/event/plymouth-elkhart-lake-fire-fund-raiser/
LOCATION:JAAAGZ Bar & Grill\, N6845 WI 67\, Plymouth\, WI\, 53073\, United States
END:VEVENT
BEGIN:VEVENT
DTSTART;TZID=America/Chicago:20250316T093000
DTEND;TZID=America/Chicago:20250316T123000
DTSTAMP:20260422T110338
CREATED:20250305T153559Z
LAST-MODIFIED:20250305T153559Z
UID:1153-1742117400-1742128200@www.cowcountry.us
SUMMARY:Maywood Celebrates 37 Years of Maple Sugaring on March 16
DESCRIPTION:SHEBOYGAN\, WI – On Sunday\, March 16 the community is invited to celebrate maple sugaring at Maywood during the park’s 37th Annual Flapjack Day. \nA pancake breakfast featuring Maywood’s own maple syrup will be served 9:30am-12:30pm. The meal includes all-you-care-to-eat pancakes and syrup and a beverage. Sausage will be available to purchase ala carte. \nVisitors can also enjoy tours of the maple forest to view the sap collection process and can visit the maple sugaring house to view the evaporator and learn how maple sap becomes maple syrup. A taste of maple syrup will also be available on complimentary snow cones and maple sap tea. Family friendly lumberjack games and activities are included with the event ticket. Activities will run 9:30am-1:00pm. Spun Boutique Cotton Candy will be on site selling their locally crafted cotton candy. \nTickets for the event are $10 for ages 12. Tickets for children ages 3-11 are $5. Kids 2 and younger eat free. Individual may purchase tickets at the Maywood Ecology Center Monday-Wednesdays and Fridays 9am-4pm and Saturdays 9am-Noon. Tickets can also be purchased online by visiting https://gomaywood.org/events/flapjack-day/. Ticket sales at the door are cash only. \nFor additional information visit GoMaywood.org\, call (920) 459-3906\, or email maywood@sheboyganwi.gov. Maywood is located at 3615 Mueller Road\, Sheboygan.
URL:https://www.cowcountry.us/event/maywood-celebrates-37-years-of-maple-sugaring-on-march-16/
LOCATION:Maywood Environmental Park\, 3615 Mueller Road\, Sheboygan\, 53083\, United States
ORGANIZER;CN="Maywood Environmental Park":MAILTO:maywood@sheboyganwi.gov
END:VEVENT
BEGIN:VEVENT
DTSTART;TZID=America/Chicago:20250316T110000
DTEND;TZID=America/Chicago:20250316T170000
DTSTAMP:20260422T110338
CREATED:20250313T214348Z
LAST-MODIFIED:20250313T214348Z
UID:1186-1742122800-1742144400@www.cowcountry.us
SUMMARY:7th Annual Lone Wolf Motorsports Pig Roast
DESCRIPTION:The Spencer Long race team pig roast is Sunday at Chris & Sue’s
URL:https://www.cowcountry.us/event/7th-annual-lone-wolf-motorsports-pig-roast/
LOCATION:Chris & Sue’s\, W3820 Co Rd C\, Plymouth\, 53073\, United States
END:VEVENT
BEGIN:VEVENT
DTSTART;TZID=America/Chicago:20250316T143000
DTEND;TZID=America/Chicago:20250316T163000
DTSTAMP:20260422T110338
CREATED:20250310T134242Z
LAST-MODIFIED:20250313T211957Z
UID:1166-1742135400-1742142600@www.cowcountry.us
SUMMARY:A Wee Bit Irish\, Spring Concert by Celtic Folk
DESCRIPTION:Celebrate St. Patrick’s Day at the Plymouth Arts Center with Celtic Folk as they present three shows of the ever-popular\, “A Wee Bit Irish!” Enjoy this live musical concert featuring your favorite traditional and contemporary Irish tunes. Show dates are Friday and Saturday\, March 14-15 at 7:30pm and a Sunday Matinee on March 16 at 2:30 pm. Celtic Folk includes vocalists and musicians: Tom Clegg\, Julie Henze\, Kerrylynn Kraemer\, Roy Schwab\, Mykael Lengling\, Rachel Smith\, Rachel Stoyke\, Ramona Tritz\, and Steve Vogt. A Wee Bit Irish is sponsored by Sargento. \nThe Schauer Center Irish Dance Troupe will be performing for the Saturday\, March 15th show only. The Dancers are underwritten by Group 66 Motorcycle Club. \nTickets are $16 for PAC Members and $19 for Non-Members (tax included) and are available now at the Plymouth Arts Center\, 520 East Mill Street\, Downtown Plymouth\, WI\, Tuesday-Friday\, 10am to 4pm\, or call 920-892-8409. Tickets may also be conveniently ordered online at: www.plymoutharts.org. Visa and Mastercard are accepted. \nCeltic Folk originated in 2013 at the Plymouth Arts Center under the direction of co-creators Kraemer and Clegg. Their first production was Celtic Christmas. Celebrating their 12th anniversary in 2025\, the directors continue to design annual Irish and Christmas shows.
URL:https://www.cowcountry.us/event/1166/
LOCATION:Plymouth Arts Center\, 520 East Mill Street\, Plymouth\, WI\, 53073
END:VEVENT
END:VCALENDAR