BEGIN:VCALENDAR
VERSION:2.0
PRODID:-//Cow Country Radio - ECPv6.15.20//NONSGML v1.0//EN
CALSCALE:GREGORIAN
METHOD:PUBLISH
X-WR-CALNAME:Cow Country Radio
X-ORIGINAL-URL:https://www.cowcountry.us
X-WR-CALDESC:Events for Cow Country Radio
REFRESH-INTERVAL;VALUE=DURATION:PT1H
X-Robots-Tag:noindex
X-PUBLISHED-TTL:PT1H
BEGIN:VTIMEZONE
TZID:America/Chicago
BEGIN:DAYLIGHT
TZOFFSETFROM:-0600
TZOFFSETTO:-0500
TZNAME:CDT
DTSTART:20240310T080000
END:DAYLIGHT
BEGIN:STANDARD
TZOFFSETFROM:-0500
TZOFFSETTO:-0600
TZNAME:CST
DTSTART:20241103T070000
END:STANDARD
BEGIN:DAYLIGHT
TZOFFSETFROM:-0600
TZOFFSETTO:-0500
TZNAME:CDT
DTSTART:20250309T080000
END:DAYLIGHT
BEGIN:STANDARD
TZOFFSETFROM:-0500
TZOFFSETTO:-0600
TZNAME:CST
DTSTART:20251102T070000
END:STANDARD
BEGIN:DAYLIGHT
TZOFFSETFROM:-0600
TZOFFSETTO:-0500
TZNAME:CDT
DTSTART:20260308T080000
END:DAYLIGHT
BEGIN:STANDARD
TZOFFSETFROM:-0500
TZOFFSETTO:-0600
TZNAME:CST
DTSTART:20261101T070000
END:STANDARD
END:VTIMEZONE
BEGIN:VEVENT
DTSTART;TZID=America/Chicago:20250322T090000
DTEND;TZID=America/Chicago:20250322T120000
DTSTAMP:20260422T110017
CREATED:20250319T170741Z
LAST-MODIFIED:20250319T170741Z
UID:1212-1742634000-1742644800@www.cowcountry.us
SUMMARY:21st Annual Fishermen's Swap Meet
DESCRIPTION:21st Annual Fishermen’s Swap Meet * \nMarch 22\, 2025 \nSponsored by the Sheboygan Area Great Lakes Sport Fishermen Club
URL:https://www.cowcountry.us/event/21st-annual-fishermens-swap-meet/
LOCATION:Sheboygan Lutheran High School\, 3323 University Dr.\, Sheboygan\, WI\, United States
END:VEVENT
BEGIN:VEVENT
DTSTART;TZID=America/Chicago:20250322T090000
DTEND;TZID=America/Chicago:20250322T140000
DTSTAMP:20260422T110017
CREATED:20250319T170324Z
LAST-MODIFIED:20250319T170324Z
UID:1210-1742634000-1742652000@www.cowcountry.us
SUMMARY:Job fair at Road America
DESCRIPTION:Saturday\, March 22\n\n\n\nRoad America’s 2025 Seasonal Job Hiring Event\n\n\n\n\nGet ready to join the team at Road America for the 2025 season – come meet us in person and secure your seasonal job!
URL:https://www.cowcountry.us/event/job-fair-at-road-america/
LOCATION:Road America\, N7390 Hwy 67\, Plymouth\, WI\, 53073\, United States
END:VEVENT
BEGIN:VEVENT
DTSTART;TZID=America/Chicago:20250322T090000
DTEND;TZID=America/Chicago:20250322T140000
DTSTAMP:20260422T110017
CREATED:20250319T171222Z
LAST-MODIFIED:20250319T171222Z
UID:1216-1742634000-1742652000@www.cowcountry.us
SUMMARY:Plymouth Pioneers Baseball Brat Fry
DESCRIPTION:The Plymouth Pioneers American Legion Baseball team has a fundraising brat fry Saturday at the Plymouth Piggly Wiggly…..
URL:https://www.cowcountry.us/event/plymouth-pioneers-baseball-brat-fry/
LOCATION:Plymouth Piggly Wiggly\, 1411 Eastern Ave\, Plymouth\, WI\, 53073\, United States
END:VEVENT
BEGIN:VEVENT
DTSTART;TZID=America/Chicago:20250322T110000
DTEND;TZID=America/Chicago:20250322T170000
DTSTAMP:20260422T110017
CREATED:20250319T165344Z
LAST-MODIFIED:20250319T165912Z
UID:1204-1742641200-1742662800@www.cowcountry.us
SUMMARY:Travis Schmidt race team Chicken Dinner
DESCRIPTION:The Travis Schmidt race team has their Chicken Dinner this Saturday at Racer’s Hall in Plymouth..
URL:https://www.cowcountry.us/event/travis-schmidt-race-team-chicken-dinner/
LOCATION:Racer’s Hall\, W4408 County Road C\, Plymouth\, WI\, 53073\, United States
END:VEVENT
END:VCALENDAR