BEGIN:VCALENDAR
VERSION:2.0
PRODID:-//Cow Country Radio - ECPv6.15.20//NONSGML v1.0//EN
CALSCALE:GREGORIAN
METHOD:PUBLISH
X-ORIGINAL-URL:https://www.cowcountry.us
X-WR-CALDESC:Events for Cow Country Radio
REFRESH-INTERVAL;VALUE=DURATION:PT1H
X-Robots-Tag:noindex
X-PUBLISHED-TTL:PT1H
BEGIN:VTIMEZONE
TZID:America/Chicago
BEGIN:DAYLIGHT
TZOFFSETFROM:-0600
TZOFFSETTO:-0500
TZNAME:CDT
DTSTART:20240310T080000
END:DAYLIGHT
BEGIN:STANDARD
TZOFFSETFROM:-0500
TZOFFSETTO:-0600
TZNAME:CST
DTSTART:20241103T070000
END:STANDARD
BEGIN:DAYLIGHT
TZOFFSETFROM:-0600
TZOFFSETTO:-0500
TZNAME:CDT
DTSTART:20250309T080000
END:DAYLIGHT
BEGIN:STANDARD
TZOFFSETFROM:-0500
TZOFFSETTO:-0600
TZNAME:CST
DTSTART:20251102T070000
END:STANDARD
BEGIN:DAYLIGHT
TZOFFSETFROM:-0600
TZOFFSETTO:-0500
TZNAME:CDT
DTSTART:20260308T080000
END:DAYLIGHT
BEGIN:STANDARD
TZOFFSETFROM:-0500
TZOFFSETTO:-0600
TZNAME:CST
DTSTART:20261101T070000
END:STANDARD
END:VTIMEZONE
BEGIN:VEVENT
DTSTART;TZID=America/Chicago:20250323T110000
DTEND;TZID=America/Chicago:20250323T160000
DTSTAMP:20260422T110432
CREATED:20250319T171624Z
LAST-MODIFIED:20250319T171655Z
UID:1218-1742727600-1742745600@www.cowcountry.us
SUMMARY:7th Annual TNT Motorsports race team Brat Fry
DESCRIPTION:7th Annual TNT Motorsports Brat Fry \n\nJoin us at Harbor Hills Recreation Center in Port Washington on March 23rd to help us kick off the 2025 racing season with our annual brat fry! \nThis year’s menu will include brats\, burgers\, steak sandwiches\, French fries\, cheese fries\, cheese curds\, mozzarella sticks\, nachos & cheese\, loaded nachos\, and mac & cheese. \nIn addition to the wide array of great foods\, there will be an array of bucket raffles and walk around raffles. We will be uploading information about raffles as we get closer to the event! \nOur car will also be on display weather permitting!
URL:https://www.cowcountry.us/event/7th-annual-tnt-motorsports-race-team-brat-fry/
LOCATION:Harbor Hills\, 101 N Freeman Drive\, Port Washington\, WI\, United States
END:VEVENT
END:VCALENDAR