BEGIN:VCALENDAR
VERSION:2.0
PRODID:-//Cow Country Radio - ECPv6.15.20//NONSGML v1.0//EN
CALSCALE:GREGORIAN
METHOD:PUBLISH
X-WR-CALNAME:Cow Country Radio
X-ORIGINAL-URL:https://www.cowcountry.us
X-WR-CALDESC:Events for Cow Country Radio
REFRESH-INTERVAL;VALUE=DURATION:PT1H
X-Robots-Tag:noindex
X-PUBLISHED-TTL:PT1H
BEGIN:VTIMEZONE
TZID:America/Chicago
BEGIN:DAYLIGHT
TZOFFSETFROM:-0600
TZOFFSETTO:-0500
TZNAME:CDT
DTSTART:20240310T080000
END:DAYLIGHT
BEGIN:STANDARD
TZOFFSETFROM:-0500
TZOFFSETTO:-0600
TZNAME:CST
DTSTART:20241103T070000
END:STANDARD
BEGIN:DAYLIGHT
TZOFFSETFROM:-0600
TZOFFSETTO:-0500
TZNAME:CDT
DTSTART:20250309T080000
END:DAYLIGHT
BEGIN:STANDARD
TZOFFSETFROM:-0500
TZOFFSETTO:-0600
TZNAME:CST
DTSTART:20251102T070000
END:STANDARD
BEGIN:DAYLIGHT
TZOFFSETFROM:-0600
TZOFFSETTO:-0500
TZNAME:CDT
DTSTART:20260308T080000
END:DAYLIGHT
BEGIN:STANDARD
TZOFFSETFROM:-0500
TZOFFSETTO:-0600
TZNAME:CST
DTSTART:20261101T070000
END:STANDARD
END:VTIMEZONE
BEGIN:VEVENT
DTSTART;TZID=America/Chicago:20250329T080000
DTEND;TZID=America/Chicago:20250329T170000
DTSTAMP:20260422T111234
CREATED:20250324T175503Z
LAST-MODIFIED:20250324T175503Z
UID:1237-1743235200-1743267600@www.cowcountry.us
SUMMARY:Corn Hole Tournament at Laacks Hall
DESCRIPTION:Laacks Hall in Johnsonville is having a cornhole tournament and brat fry Saturday
URL:https://www.cowcountry.us/event/corn-hole-tournament-at-laacks-hall/
LOCATION:Laack’s Tavern & Ballroom\, W4302 County Rd Jm\, Sheboygan Falls\, WI\, 53085\, United States
END:VEVENT
BEGIN:VEVENT
DTSTART;TZID=America/Chicago:20250329T100000
DTEND;TZID=America/Chicago:20250329T170000
DTSTAMP:20260422T111234
CREATED:20250324T175117Z
LAST-MODIFIED:20250324T175117Z
UID:1233-1743242400-1743267600@www.cowcountry.us
SUMMARY:Justin Erickson Race Team Brat Fry
DESCRIPTION:Plymouth Dirt Track Racing 360 Sprint Car competitor Justin Erickson and Erickson Racing will hold a brat fry fundraiser on Saturday\, March 29 at Butch & Anne’s Pine Grove in Elkhart Lake. \nTurning out to support local race team fundraisers contributes to the health of the great sport of dirt track racing!
URL:https://www.cowcountry.us/event/justin-erickson-race-team-brat-fry/
LOCATION:Butch & Ann’s Pine Grove\, W3225 County Road MM\, Elkhart Lake\, WI\, 53020\, United States
END:VEVENT
END:VCALENDAR