BEGIN:VCALENDAR
VERSION:2.0
PRODID:-//Cow Country Radio - ECPv6.15.20//NONSGML v1.0//EN
CALSCALE:GREGORIAN
METHOD:PUBLISH
X-WR-CALNAME:Cow Country Radio
X-ORIGINAL-URL:https://www.cowcountry.us
X-WR-CALDESC:Events for Cow Country Radio
REFRESH-INTERVAL;VALUE=DURATION:PT1H
X-Robots-Tag:noindex
X-PUBLISHED-TTL:PT1H
BEGIN:VTIMEZONE
TZID:America/Chicago
BEGIN:DAYLIGHT
TZOFFSETFROM:-0600
TZOFFSETTO:-0500
TZNAME:CDT
DTSTART:20240310T080000
END:DAYLIGHT
BEGIN:STANDARD
TZOFFSETFROM:-0500
TZOFFSETTO:-0600
TZNAME:CST
DTSTART:20241103T070000
END:STANDARD
BEGIN:DAYLIGHT
TZOFFSETFROM:-0600
TZOFFSETTO:-0500
TZNAME:CDT
DTSTART:20250309T080000
END:DAYLIGHT
BEGIN:STANDARD
TZOFFSETFROM:-0500
TZOFFSETTO:-0600
TZNAME:CST
DTSTART:20251102T070000
END:STANDARD
BEGIN:DAYLIGHT
TZOFFSETFROM:-0600
TZOFFSETTO:-0500
TZNAME:CDT
DTSTART:20260308T080000
END:DAYLIGHT
BEGIN:STANDARD
TZOFFSETFROM:-0500
TZOFFSETTO:-0600
TZNAME:CST
DTSTART:20261101T070000
END:STANDARD
END:VTIMEZONE
BEGIN:VEVENT
DTSTART;TZID=America/Chicago:20250405T090000
DTEND;TZID=America/Chicago:20250405T130000
DTSTAMP:20260422T095334
CREATED:20250124T123844Z
LAST-MODIFIED:20250326T172618Z
UID:1053-1743843600-1743858000@www.cowcountry.us
SUMMARY:Plymouth's 4th Annual Maple Festival
DESCRIPTION:Plymouth’s 4th annual Maple Festival will be held at the Plymouth City Park on Saturday April 5th from 9:00AM – 1:00 PM. \nAt this event the Sugar Shack will be dedicated\, as well having vendors\, a pancake breakfast & other family activities.
URL:https://www.cowcountry.us/event/plymouths-4th-annual-maple-festival/
LOCATION:Plymouth City Park\, 203 Suhrke Rd\, Plymouth\, WI\, 53073\, United States
END:VEVENT
BEGIN:VEVENT
DTSTART;TZID=America/Chicago:20250405T110000
DTEND;TZID=America/Chicago:20250405T170000
DTSTAMP:20260422T095334
CREATED:20250120T151239Z
LAST-MODIFIED:20250120T151239Z
UID:1041-1743850800-1743872400@www.cowcountry.us
SUMMARY:Duck Bowl - *New Sheb Falls Chamber Event 2025*
DESCRIPTION:9-pin Bowling Tournament with a brat fry\, raffles\, and lots of fun. \nGather your flock to register! 5-person teams ($20 per person)
URL:https://www.cowcountry.us/event/duck-bowl-new-sheb-falls-chamber-event-2025/
LOCATION:WI
END:VEVENT
END:VCALENDAR