BEGIN:VCALENDAR
VERSION:2.0
PRODID:-//Cow Country Radio - ECPv6.15.20//NONSGML v1.0//EN
CALSCALE:GREGORIAN
METHOD:PUBLISH
X-ORIGINAL-URL:https://www.cowcountry.us
X-WR-CALDESC:Events for Cow Country Radio
REFRESH-INTERVAL;VALUE=DURATION:PT1H
X-Robots-Tag:noindex
X-PUBLISHED-TTL:PT1H
BEGIN:VTIMEZONE
TZID:America/Chicago
BEGIN:DAYLIGHT
TZOFFSETFROM:-0600
TZOFFSETTO:-0500
TZNAME:CDT
DTSTART:20240310T080000
END:DAYLIGHT
BEGIN:STANDARD
TZOFFSETFROM:-0500
TZOFFSETTO:-0600
TZNAME:CST
DTSTART:20241103T070000
END:STANDARD
BEGIN:DAYLIGHT
TZOFFSETFROM:-0600
TZOFFSETTO:-0500
TZNAME:CDT
DTSTART:20250309T080000
END:DAYLIGHT
BEGIN:STANDARD
TZOFFSETFROM:-0500
TZOFFSETTO:-0600
TZNAME:CST
DTSTART:20251102T070000
END:STANDARD
BEGIN:DAYLIGHT
TZOFFSETFROM:-0600
TZOFFSETTO:-0500
TZNAME:CDT
DTSTART:20260308T080000
END:DAYLIGHT
BEGIN:STANDARD
TZOFFSETFROM:-0500
TZOFFSETTO:-0600
TZNAME:CST
DTSTART:20261101T070000
END:STANDARD
END:VTIMEZONE
BEGIN:VEVENT
DTSTART;TZID=America/Chicago:20250426T080000
DTEND;TZID=America/Chicago:20250426T103000
DTSTAMP:20260422T095348
CREATED:20250421T190319Z
LAST-MODIFIED:20250421T190319Z
UID:1326-1745654400-1745663400@www.cowcountry.us
SUMMARY:Kiwanis IPads for Autism 5K Fun Run/Walk
DESCRIPTION:Kiwanis IPads for Autism 5K Fun Run/Walk is at River Park in Sheboygan Falls on Saturday\nfrom 8-10:30.
URL:https://www.cowcountry.us/event/kiwanis-ipads-for-autism-5k-fun-run-walk/
LOCATION:River Park\, 1st St\, Sheboygan Falls\, WI\, 53085\, United States
END:VEVENT
BEGIN:VEVENT
DTSTART;TZID=America/Chicago:20250426T110000
DTEND;TZID=America/Chicago:20250426T160000
DTSTAMP:20260422T095348
CREATED:20250421T190659Z
LAST-MODIFIED:20250421T190758Z
UID:1329-1745665200-1745683200@www.cowcountry.us
SUMMARY:Sheriffs Department K-9 Fundraiser Brat Fry
DESCRIPTION:Sheboygan County Sheriffs Department K-9 Fundraiser Brat Fry at the Sheboygan Elks Lodge on\nErie Avenue in Sheboygan from 11-4 on Saturday
URL:https://www.cowcountry.us/event/sheriffs-department-k-9-fundraiser-brat-fry/
LOCATION:Sheboygan Elks Lodge\, 1943 Erie Ave\, Sheboygan\, WI\, 53081\, United States
END:VEVENT
BEGIN:VEVENT
DTSTART;TZID=America/Chicago:20250426T160000
DTEND;TZID=America/Chicago:20250426T230000
DTSTAMP:20260422T095348
CREATED:20250421T191039Z
LAST-MODIFIED:20250421T191039Z
UID:1333-1745683200-1745708400@www.cowcountry.us
SUMMARY:Plymouth Dirt Track Racing
DESCRIPTION:The season Opener of Plymouth Dirt Track Racking at the fairgrounds in Plymouth is Saturday with a guest appearance of the Midwest Legends Dirt Series.
URL:https://www.cowcountry.us/event/plymouth-dirt-track-racing-2/
LOCATION:Sheboygan County Fair Park\, 229 Fairview Drive\, Plymouth\, WI\, 53073
END:VEVENT
BEGIN:VEVENT
DTSTART;TZID=America/Chicago:20250426T190000
DTEND;TZID=America/Chicago:20250426T220000
DTSTAMP:20260422T095348
CREATED:20250402T144620Z
LAST-MODIFIED:20250402T144620Z
UID:1281-1745694000-1745704800@www.cowcountry.us
SUMMARY:Comedy Night feat Steve Hartman
DESCRIPTION:
URL:https://www.cowcountry.us/event/comedy-night-feat-steve-hartman/
LOCATION:Generations Intergenerational Center\, 1500 Douglas Drive\, Plymouth\, WI\, 53073\, United States
END:VEVENT
BEGIN:VEVENT
DTSTART;TZID=America/Chicago:20250426T190000
DTEND;TZID=America/Chicago:20250427T190000
DTSTAMP:20260422T095348
CREATED:20250411T182052Z
LAST-MODIFIED:20250411T182052Z
UID:1305-1745694000-1745780400@www.cowcountry.us
SUMMARY:Musical Potppourri at The Plymouth Arts Center
DESCRIPTION:The Plymouth Arts Center presents “Musical Potppourri” on Saturday and Sunday at 7.
URL:https://www.cowcountry.us/event/musical-potppourri-at-the-plymouth-arts-center/
LOCATION:Plymouth Arts Center\, 520 East Mill Street\, Plymouth\, WI\, 53073
END:VEVENT
END:VCALENDAR