BEGIN:VCALENDAR
VERSION:2.0
PRODID:-//Cow Country Radio - ECPv6.15.20//NONSGML v1.0//EN
CALSCALE:GREGORIAN
METHOD:PUBLISH
X-WR-CALNAME:Cow Country Radio
X-ORIGINAL-URL:https://www.cowcountry.us
X-WR-CALDESC:Events for Cow Country Radio
REFRESH-INTERVAL;VALUE=DURATION:PT1H
X-Robots-Tag:noindex
X-PUBLISHED-TTL:PT1H
BEGIN:VTIMEZONE
TZID:America/Chicago
BEGIN:DAYLIGHT
TZOFFSETFROM:-0600
TZOFFSETTO:-0500
TZNAME:CDT
DTSTART:20240310T080000
END:DAYLIGHT
BEGIN:STANDARD
TZOFFSETFROM:-0500
TZOFFSETTO:-0600
TZNAME:CST
DTSTART:20241103T070000
END:STANDARD
BEGIN:DAYLIGHT
TZOFFSETFROM:-0600
TZOFFSETTO:-0500
TZNAME:CDT
DTSTART:20250309T080000
END:DAYLIGHT
BEGIN:STANDARD
TZOFFSETFROM:-0500
TZOFFSETTO:-0600
TZNAME:CST
DTSTART:20251102T070000
END:STANDARD
BEGIN:DAYLIGHT
TZOFFSETFROM:-0600
TZOFFSETTO:-0500
TZNAME:CDT
DTSTART:20260308T080000
END:DAYLIGHT
BEGIN:STANDARD
TZOFFSETFROM:-0500
TZOFFSETTO:-0600
TZNAME:CST
DTSTART:20261101T070000
END:STANDARD
END:VTIMEZONE
BEGIN:VEVENT
DTSTART;TZID=America/Chicago:20250426T190000
DTEND;TZID=America/Chicago:20250427T190000
DTSTAMP:20260422T083102
CREATED:20250411T182052Z
LAST-MODIFIED:20250411T182052Z
UID:1305-1745694000-1745780400@www.cowcountry.us
SUMMARY:Musical Potppourri at The Plymouth Arts Center
DESCRIPTION:The Plymouth Arts Center presents “Musical Potppourri” on Saturday and Sunday at 7.
URL:https://www.cowcountry.us/event/musical-potppourri-at-the-plymouth-arts-center/
LOCATION:Plymouth Arts Center\, 520 East Mill Street\, Plymouth\, WI\, 53073
END:VEVENT
BEGIN:VEVENT
DTSTART;TZID=America/Chicago:20250427T100000
DTEND;TZID=America/Chicago:20250427T180000
DTSTAMP:20260422T083102
CREATED:20250323T214950Z
LAST-MODIFIED:20250323T214950Z
UID:1229-1745748000-1745776800@www.cowcountry.us
SUMMARY:Town of Sheboygan Fire Department Brat Fry
DESCRIPTION:Town of Sheboygan Fire Department Brat Fry Sunday April 27th
URL:https://www.cowcountry.us/event/town-of-sheboygan-fire-department-brat-fry/
LOCATION:Town of Sheboygan Fire Department\, 3911 County Trunk Y\, Sheboygan\, WI\, United States
END:VEVENT
BEGIN:VEVENT
DTSTART;TZID=America/Chicago:20250427T100000
DTEND;TZID=America/Chicago:20250427T180000
DTSTAMP:20260422T083103
CREATED:20250331T171632Z
LAST-MODIFIED:20250331T171814Z
UID:1270-1745748000-1745776800@www.cowcountry.us
SUMMARY:Town of Sheboygan Falls Fire Department Brat Fry
DESCRIPTION:The Town of Sheboygan Falls Fire Department Brat Fry will be on County Road TT in Falls on Sunday\, April 27th from 10 to 6.  Raffles and live entertainment.
URL:https://www.cowcountry.us/event/town-of-sheboygan-falls-fire-department-brat-fry/
LOCATION:Town of Sheboygan Falls Fire Department\, N5480 Co Rd TT\, Sheboygan Falls\, WI\, 53085\, United States
END:VEVENT
BEGIN:VEVENT
DTSTART;TZID=America/Chicago:20250427T110000
DTEND;TZID=America/Chicago:20250427T140000
DTSTAMP:20260422T083103
CREATED:20250304T122946Z
LAST-MODIFIED:20250304T123223Z
UID:1128-1745751600-1745762400@www.cowcountry.us
SUMMARY:Plymouth Fire Department Chicken BBQ Dinner
DESCRIPTION:Plymouth Fire Department Chicken BBQ Dinner \nSunday April 27th. Serving 11AM – 2PM \nAt Plymouth Fire Station 111 East Main St. Plymouth.
URL:https://www.cowcountry.us/event/plymouth-fire-department-chicken-bbq-2/
LOCATION:Plymouth Fire Station\, 111 East Main Street\, Plymouth\, WI\, 53073
END:VEVENT
END:VCALENDAR