BEGIN:VCALENDAR
VERSION:2.0
PRODID:-//Cow Country Radio - ECPv6.15.20//NONSGML v1.0//EN
CALSCALE:GREGORIAN
METHOD:PUBLISH
X-ORIGINAL-URL:https://www.cowcountry.us
X-WR-CALDESC:Events for Cow Country Radio
REFRESH-INTERVAL;VALUE=DURATION:PT1H
X-Robots-Tag:noindex
X-PUBLISHED-TTL:PT1H
BEGIN:VTIMEZONE
TZID:America/Chicago
BEGIN:DAYLIGHT
TZOFFSETFROM:-0600
TZOFFSETTO:-0500
TZNAME:CDT
DTSTART:20240310T080000
END:DAYLIGHT
BEGIN:STANDARD
TZOFFSETFROM:-0500
TZOFFSETTO:-0600
TZNAME:CST
DTSTART:20241103T070000
END:STANDARD
BEGIN:DAYLIGHT
TZOFFSETFROM:-0600
TZOFFSETTO:-0500
TZNAME:CDT
DTSTART:20250309T080000
END:DAYLIGHT
BEGIN:STANDARD
TZOFFSETFROM:-0500
TZOFFSETTO:-0600
TZNAME:CST
DTSTART:20251102T070000
END:STANDARD
BEGIN:DAYLIGHT
TZOFFSETFROM:-0600
TZOFFSETTO:-0500
TZNAME:CDT
DTSTART:20260308T080000
END:DAYLIGHT
BEGIN:STANDARD
TZOFFSETFROM:-0500
TZOFFSETTO:-0600
TZNAME:CST
DTSTART:20261101T070000
END:STANDARD
END:VTIMEZONE
BEGIN:VEVENT
DTSTART;TZID=America/Chicago:20250504T090000
DTEND;TZID=America/Chicago:20250504T140000
DTSTAMP:20260422T083543
CREATED:20250501T211107Z
LAST-MODIFIED:20250501T211107Z
UID:1367-1746349200-1746367200@www.cowcountry.us
SUMMARY:Boy Scout Troop 874 Brat Fry
DESCRIPTION:Plymouth Boy Scout Troop 874 is having a brat fry fundraiser this Sunday May 4th at Piggly Wiggly in Plymouth from 9 – 2.
URL:https://www.cowcountry.us/event/boy-scout-troop-874-brat-fry/
LOCATION:Plymouth Piggly Wiggly\, 1411 Eastern Ave\, Plymouth\, WI\, 53073\, United States
END:VEVENT
BEGIN:VEVENT
DTSTART;TZID=America/Chicago:20250504T100000
DTEND;TZID=America/Chicago:20250504T140000
DTSTAMP:20260422T083543
CREATED:20250501T210852Z
LAST-MODIFIED:20250501T210852Z
UID:1362-1746352800-1746367200@www.cowcountry.us
SUMMARY:Veterans Brat Fry
DESCRIPTION:Veterans Brat Fry on Sunday to help the Military Veterans Motorcycle Association\nsupport our local veteran community. Schwallers Meat Market on Eastern Avenue in Plymouth\nfrom 10 to 2.
URL:https://www.cowcountry.us/event/veterans-brat-fry/
LOCATION:Schwallers Meat Market\, 633 Eastern Ave\, Plymouth\, WI\, 53073\, United States
END:VEVENT
BEGIN:VEVENT
DTSTART;TZID=America/Chicago:20250504T110000
DTEND;TZID=America/Chicago:20250504T140000
DTSTAMP:20260422T083543
CREATED:20250429T151015Z
LAST-MODIFIED:20250429T151015Z
UID:1352-1746356400-1746367200@www.cowcountry.us
SUMMARY:Silver Creek Fire Department chicken BBQ
DESCRIPTION:Silver Creek Fire Department has their chicken BBQ this Sunday May 4th\, 2025. They will be serving ½ chickens with mashed potatoes\, veggie\, coleslaw\, and homemade desserts. The chicken dinners will be served via drive thru only.
URL:https://www.cowcountry.us/event/silver-creek-fire-department-chicken-bbq/
LOCATION:Silver Creek Fire Department Chicken BBQ\, W6566 Wi-144\, Random Lake\, WI\, 53075\, United States
END:VEVENT
END:VCALENDAR