BEGIN:VCALENDAR
VERSION:2.0
PRODID:-//Cow Country Radio - ECPv6.15.20//NONSGML v1.0//EN
CALSCALE:GREGORIAN
METHOD:PUBLISH
X-ORIGINAL-URL:https://www.cowcountry.us
X-WR-CALDESC:Events for Cow Country Radio
REFRESH-INTERVAL;VALUE=DURATION:PT1H
X-Robots-Tag:noindex
X-PUBLISHED-TTL:PT1H
BEGIN:VTIMEZONE
TZID:America/Chicago
BEGIN:DAYLIGHT
TZOFFSETFROM:-0600
TZOFFSETTO:-0500
TZNAME:CDT
DTSTART:20240310T080000
END:DAYLIGHT
BEGIN:STANDARD
TZOFFSETFROM:-0500
TZOFFSETTO:-0600
TZNAME:CST
DTSTART:20241103T070000
END:STANDARD
BEGIN:DAYLIGHT
TZOFFSETFROM:-0600
TZOFFSETTO:-0500
TZNAME:CDT
DTSTART:20250309T080000
END:DAYLIGHT
BEGIN:STANDARD
TZOFFSETFROM:-0500
TZOFFSETTO:-0600
TZNAME:CST
DTSTART:20251102T070000
END:STANDARD
BEGIN:DAYLIGHT
TZOFFSETFROM:-0600
TZOFFSETTO:-0500
TZNAME:CDT
DTSTART:20260308T080000
END:DAYLIGHT
BEGIN:STANDARD
TZOFFSETFROM:-0500
TZOFFSETTO:-0600
TZNAME:CST
DTSTART:20261101T070000
END:STANDARD
END:VTIMEZONE
BEGIN:VEVENT
DTSTART;VALUE=DATE:20250619
DTEND;VALUE=DATE:20250623
DTSTAMP:20260422T071404
CREATED:20250609T171951Z
LAST-MODIFIED:20250609T171951Z
UID:1516-1750291200-1750636799@www.cowcountry.us
SUMMARY:Indy Car XPEL Grand Prix
DESCRIPTION:The IndyCar XPEL Grand Prix is at Road America in Elkhart Lake Thursday-Sunday.
URL:https://www.cowcountry.us/event/indy-car-xpel-grand-prix/
LOCATION:Road America\, N7390 Hwy 67\, Plymouth\, WI\, 53073\, United States
END:VEVENT
BEGIN:VEVENT
DTSTART;TZID=America/Chicago:20250620T190000
DTEND;TZID=America/Chicago:20250620T210000
DTSTAMP:20260422T071404
CREATED:20250618T174846Z
LAST-MODIFIED:20250618T174846Z
UID:1572-1750446000-1750453200@www.cowcountry.us
SUMMARY:Creekside Garden Tractor Pull
DESCRIPTION:Creekside Garden Tractor Pullers are in action at Racer’s Hall
URL:https://www.cowcountry.us/event/creekside-garden-tractor-pull/
LOCATION:Racer’s Hall\, W4408 County Road C\, Plymouth\, WI\, 53073\, United States
END:VEVENT
BEGIN:VEVENT
DTSTART;TZID=America/Chicago:20250620T193000
DTEND;TZID=America/Chicago:20250620T210000
DTSTAMP:20260422T071404
CREATED:20250617T171302Z
LAST-MODIFIED:20250617T171302Z
UID:1545-1750447800-1750453200@www.cowcountry.us
SUMMARY:Mill Street Live
DESCRIPTION:“Mill Street Live” will be celebrating its 17th year as Plymouth Arts Center’s premier summer musical series. Initiated in 2009\, the series continues to be well-known for its high-energy performances\, fantastic music selections\, choreography\, and showmanship. This live musical revue showcases local performers ages 16 and up\, and their abilities to sing\, dance\, and entertain. With 90 minutes of music from the past seven decades\, there is something for everyone in the audience to enjoy.
URL:https://www.cowcountry.us/event/mill-street-live/
LOCATION:Plymouth Arts Center\, 520 East Mill Street\, Plymouth\, WI\, 53073
END:VEVENT
END:VCALENDAR