BEGIN:VCALENDAR
VERSION:2.0
PRODID:-//Cow Country Radio - ECPv6.15.20//NONSGML v1.0//EN
CALSCALE:GREGORIAN
METHOD:PUBLISH
X-ORIGINAL-URL:https://www.cowcountry.us
X-WR-CALDESC:Events for Cow Country Radio
REFRESH-INTERVAL;VALUE=DURATION:PT1H
X-Robots-Tag:noindex
X-PUBLISHED-TTL:PT1H
BEGIN:VTIMEZONE
TZID:America/Chicago
BEGIN:DAYLIGHT
TZOFFSETFROM:-0600
TZOFFSETTO:-0500
TZNAME:CDT
DTSTART:20240310T080000
END:DAYLIGHT
BEGIN:STANDARD
TZOFFSETFROM:-0500
TZOFFSETTO:-0600
TZNAME:CST
DTSTART:20241103T070000
END:STANDARD
BEGIN:DAYLIGHT
TZOFFSETFROM:-0600
TZOFFSETTO:-0500
TZNAME:CDT
DTSTART:20250309T080000
END:DAYLIGHT
BEGIN:STANDARD
TZOFFSETFROM:-0500
TZOFFSETTO:-0600
TZNAME:CST
DTSTART:20251102T070000
END:STANDARD
BEGIN:DAYLIGHT
TZOFFSETFROM:-0600
TZOFFSETTO:-0500
TZNAME:CDT
DTSTART:20260308T080000
END:DAYLIGHT
BEGIN:STANDARD
TZOFFSETFROM:-0500
TZOFFSETTO:-0600
TZNAME:CST
DTSTART:20261101T070000
END:STANDARD
END:VTIMEZONE
BEGIN:VEVENT
DTSTART;TZID=America/Chicago:20250625T180000
DTEND;TZID=America/Chicago:20250625T193000
DTSTAMP:20260422T071402
CREATED:20250623T155235Z
LAST-MODIFIED:20250623T155250Z
UID:1590-1750874400-1750879800@www.cowcountry.us
SUMMARY:Touch a Truck
DESCRIPTION:Touch a Truck at Wildwood Baseball Park in Sheboygan on Wednesday. See construction\nand service vehicles up close in the parking lot pre-game from 6:15 to 7:45.
URL:https://www.cowcountry.us/event/touch-a-truck/
LOCATION:Wildwood Baseball Park\, 2276 New Jersey Ave\,\, Sheboygan\, WI\, 53081\, United States
END:VEVENT
BEGIN:VEVENT
DTSTART;TZID=America/Chicago:20250625T180000
DTEND;TZID=America/Chicago:20250625T200000
DTSTAMP:20260422T071402
CREATED:20250210T153409Z
LAST-MODIFIED:20250210T153409Z
UID:1059-1750874400-1750881600@www.cowcountry.us
SUMMARY:Summer Concert Series at River Park\, Sheboygan Falls
DESCRIPTION:Summer Concert Series at River Park\, Sheboygan Falls \nFeaturing “Bella Musik”
URL:https://www.cowcountry.us/event/summer-concert-series-at-river-park-sheboygan-falls-2/
LOCATION:River Park\, 1st St\, Sheboygan Falls\, WI\, 53085\, United States
END:VEVENT
END:VCALENDAR