BEGIN:VCALENDAR
VERSION:2.0
PRODID:-//Cow Country Radio - ECPv6.15.20//NONSGML v1.0//EN
CALSCALE:GREGORIAN
METHOD:PUBLISH
X-ORIGINAL-URL:https://www.cowcountry.us
X-WR-CALDESC:Events for Cow Country Radio
REFRESH-INTERVAL;VALUE=DURATION:PT1H
X-Robots-Tag:noindex
X-PUBLISHED-TTL:PT1H
BEGIN:VTIMEZONE
TZID:America/Chicago
BEGIN:DAYLIGHT
TZOFFSETFROM:-0600
TZOFFSETTO:-0500
TZNAME:CDT
DTSTART:20240310T080000
END:DAYLIGHT
BEGIN:STANDARD
TZOFFSETFROM:-0500
TZOFFSETTO:-0600
TZNAME:CST
DTSTART:20241103T070000
END:STANDARD
BEGIN:DAYLIGHT
TZOFFSETFROM:-0600
TZOFFSETTO:-0500
TZNAME:CDT
DTSTART:20250309T080000
END:DAYLIGHT
BEGIN:STANDARD
TZOFFSETFROM:-0500
TZOFFSETTO:-0600
TZNAME:CST
DTSTART:20251102T070000
END:STANDARD
BEGIN:DAYLIGHT
TZOFFSETFROM:-0600
TZOFFSETTO:-0500
TZNAME:CDT
DTSTART:20260308T080000
END:DAYLIGHT
BEGIN:STANDARD
TZOFFSETFROM:-0500
TZOFFSETTO:-0600
TZNAME:CST
DTSTART:20261101T070000
END:STANDARD
END:VTIMEZONE
BEGIN:VEVENT
DTSTART;TZID=America/Chicago:20250716T120000
DTEND;TZID=America/Chicago:20250720T190000
DTSTAMP:20260422T060114
CREATED:20250714T173145Z
LAST-MODIFIED:20250714T173145Z
UID:1625-1752667200-1753038000@www.cowcountry.us
SUMMARY:Fond du Lac County Fair
DESCRIPTION:Fair Fun Galore at the Fond du Lac County Fairgrounds!!
URL:https://www.cowcountry.us/event/fond-du-lac-county-fair/
LOCATION:Fond du Lac County Fair Grounds\, 500 Fond du Lac Avenue\, Fond du Lac\, WI\, 54935\, United States
END:VEVENT
BEGIN:VEVENT
DTSTART;TZID=America/Chicago:20250717T080000
DTEND;TZID=America/Chicago:20250720T180000
DTSTAMP:20260422T060114
CREATED:20250714T173820Z
LAST-MODIFIED:20250714T173820Z
UID:1628-1752739200-1753034400@www.cowcountry.us
SUMMARY:WeatherTech Vintage Weekend at Road America
DESCRIPTION:The WeatherTech Vintage Weekend with Brian Redman is at Road America in Elkhart Lake is\nThursday-Sunday
URL:https://www.cowcountry.us/event/weathertech-vintage-weekend-at-road-america/
LOCATION:Road America\, N7390 Hwy 67\, Plymouth\, WI\, 53073\, United States
END:VEVENT
BEGIN:VEVENT
DTSTART;TZID=America/Chicago:20250717T190000
DTEND;TZID=America/Chicago:20250717T203000
DTSTAMP:20260422T060114
CREATED:20250706T220811Z
LAST-MODIFIED:20250714T172911Z
UID:1613-1752778800-1752784200@www.cowcountry.us
SUMMARY:Plymouth Municipal Band\, Music in the Park
DESCRIPTION:Featuring the Chilli Dogs. Bring a chair or blanket to the free concert.
URL:https://www.cowcountry.us/event/plymouth-municipal-band-music-in-the-park/
LOCATION:Plymouth City Park\, 203 Suhrke Rd\, Plymouth\, WI\, 53073\, United States
END:VEVENT
BEGIN:VEVENT
DTSTART;TZID=America/Chicago:20250717T193000
DTEND;TZID=America/Chicago:20250717T220000
DTSTAMP:20260422T060114
CREATED:20250714T173959Z
LAST-MODIFIED:20250714T173959Z
UID:1630-1752780600-1752789600@www.cowcountry.us
SUMMARY:Adam Corolla @ Road America
DESCRIPTION:Adam Corolla’s Comedy Show is at Road America in Elkhart Lake on Thursday (July 17 th ) at 7:30.
URL:https://www.cowcountry.us/event/adam-corolla-road-america/
LOCATION:Road America\, N7390 Hwy 67\, Plymouth\, WI\, 53073\, United States
END:VEVENT
END:VCALENDAR