BEGIN:VCALENDAR
VERSION:2.0
PRODID:-//Cow Country Radio - ECPv6.15.20//NONSGML v1.0//EN
CALSCALE:GREGORIAN
METHOD:PUBLISH
X-ORIGINAL-URL:https://www.cowcountry.us
X-WR-CALDESC:Events for Cow Country Radio
REFRESH-INTERVAL;VALUE=DURATION:PT1H
X-Robots-Tag:noindex
X-PUBLISHED-TTL:PT1H
BEGIN:VTIMEZONE
TZID:America/Chicago
BEGIN:DAYLIGHT
TZOFFSETFROM:-0600
TZOFFSETTO:-0500
TZNAME:CDT
DTSTART:20240310T080000
END:DAYLIGHT
BEGIN:STANDARD
TZOFFSETFROM:-0500
TZOFFSETTO:-0600
TZNAME:CST
DTSTART:20241103T070000
END:STANDARD
BEGIN:DAYLIGHT
TZOFFSETFROM:-0600
TZOFFSETTO:-0500
TZNAME:CDT
DTSTART:20250309T080000
END:DAYLIGHT
BEGIN:STANDARD
TZOFFSETFROM:-0500
TZOFFSETTO:-0600
TZNAME:CST
DTSTART:20251102T070000
END:STANDARD
BEGIN:DAYLIGHT
TZOFFSETFROM:-0600
TZOFFSETTO:-0500
TZNAME:CDT
DTSTART:20260308T080000
END:DAYLIGHT
BEGIN:STANDARD
TZOFFSETFROM:-0500
TZOFFSETTO:-0600
TZNAME:CST
DTSTART:20261101T070000
END:STANDARD
END:VTIMEZONE
BEGIN:VEVENT
DTSTART;TZID=America/Chicago:20250731T080000
DTEND;TZID=America/Chicago:20250803T170000
DTSTAMP:20260421T064000
CREATED:20250721T163941Z
LAST-MODIFIED:20250728T163426Z
UID:1653-1753948800-1754240400@www.cowcountry.us
SUMMARY:Road America in Elkhart Lake is hosting the Motul SportsCar Grand Prix
DESCRIPTION:Road America in Elkhart Lake is hosting the Motul SportsCar Grand Prix featuring IMSA from\nThursday to Sunday.
URL:https://www.cowcountry.us/event/gridlife-summer-apex-music-and-motorsports-festival/
LOCATION:Road America\, N7390 Hwy 67\, Plymouth\, WI\, 53073\, United States
END:VEVENT
BEGIN:VEVENT
DTSTART;TZID=America/Chicago:20250801T160000
DTEND;TZID=America/Chicago:20250803T170000
DTSTAMP:20260421T064000
CREATED:20250728T163523Z
LAST-MODIFIED:20250728T163523Z
UID:1675-1754064000-1754240400@www.cowcountry.us
SUMMARY:Cascade Firemen's Picnic
DESCRIPTION:The Cascade Fireman’s Picnic is Friday-Sunday. Fish Boil from 4-8 on Friday.\nMusic\, Bingo\, Raffles\, and inflatables for the kids.
URL:https://www.cowcountry.us/event/cascade-firemens-picnic-2/
LOCATION:WI
END:VEVENT
BEGIN:VEVENT
DTSTART;TZID=America/Chicago:20250802T110000
DTEND;TZID=America/Chicago:20250802T230000
DTSTAMP:20260421T064000
CREATED:20250728T163825Z
LAST-MODIFIED:20250728T164035Z
UID:1679-1754132400-1754175600@www.cowcountry.us
SUMMARY:Brat Days
DESCRIPTION:Brat Days in Sheboygan is Saturday at Kiwanis Park in Sheboygan starts at 11.\nStetsin and Lace plays at 4:30.
URL:https://www.cowcountry.us/event/brat-days/
LOCATION:Kiwanis Park\, 726 Kiwanis Park Rd\, Sheboygan\, WI\, 53081\, United States
END:VEVENT
END:VCALENDAR