BEGIN:VCALENDAR
VERSION:2.0
PRODID:-//Cow Country Radio - ECPv6.15.20//NONSGML v1.0//EN
CALSCALE:GREGORIAN
METHOD:PUBLISH
X-ORIGINAL-URL:https://www.cowcountry.us
X-WR-CALDESC:Events for Cow Country Radio
REFRESH-INTERVAL;VALUE=DURATION:PT1H
X-Robots-Tag:noindex
X-PUBLISHED-TTL:PT1H
BEGIN:VTIMEZONE
TZID:America/Chicago
BEGIN:DAYLIGHT
TZOFFSETFROM:-0600
TZOFFSETTO:-0500
TZNAME:CDT
DTSTART:20240310T080000
END:DAYLIGHT
BEGIN:STANDARD
TZOFFSETFROM:-0500
TZOFFSETTO:-0600
TZNAME:CST
DTSTART:20241103T070000
END:STANDARD
BEGIN:DAYLIGHT
TZOFFSETFROM:-0600
TZOFFSETTO:-0500
TZNAME:CDT
DTSTART:20250309T080000
END:DAYLIGHT
BEGIN:STANDARD
TZOFFSETFROM:-0500
TZOFFSETTO:-0600
TZNAME:CST
DTSTART:20251102T070000
END:STANDARD
BEGIN:DAYLIGHT
TZOFFSETFROM:-0600
TZOFFSETTO:-0500
TZNAME:CDT
DTSTART:20260308T080000
END:DAYLIGHT
BEGIN:STANDARD
TZOFFSETFROM:-0500
TZOFFSETTO:-0600
TZNAME:CST
DTSTART:20261101T070000
END:STANDARD
END:VTIMEZONE
BEGIN:VEVENT
DTSTART;TZID=America/Chicago:20250815T080000
DTEND;TZID=America/Chicago:20250817T170000
DTSTAMP:20260421T064113
CREATED:20250810T194907Z
LAST-MODIFIED:20250810T194921Z
UID:1698-1755244800-1755450000@www.cowcountry.us
SUMMARY:GT World Challenge America
DESCRIPTION:The GT World Challenge America is Friday-Sunday at Road America in Elkhart Lake.
URL:https://www.cowcountry.us/event/gt-world-challenge-america/
LOCATION:Road America\, N7390 Hwy 67\, Plymouth\, WI\, 53073\, United States
END:VEVENT
BEGIN:VEVENT
DTSTART;TZID=America/Chicago:20250815T180000
DTEND;TZID=America/Chicago:20250815T210000
DTSTAMP:20260421T064113
CREATED:20250729T112521Z
LAST-MODIFIED:20250729T112609Z
UID:1683-1755280800-1755291600@www.cowcountry.us
SUMMARY:Cheese Capital Wine Walk 2025
DESCRIPTION:The 2025 Cheese Capital Wine Walk will be held at locations along Mill Street in Downtown Plymouth\, on Friday August 15th from 6 – PM.
URL:https://www.cowcountry.us/event/wine-walk-2025/
LOCATION:Mill Street\, Plymouth WI
END:VEVENT
END:VCALENDAR