BEGIN:VCALENDAR
VERSION:2.0
PRODID:-//Cow Country Radio - ECPv6.15.20//NONSGML v1.0//EN
CALSCALE:GREGORIAN
METHOD:PUBLISH
X-WR-CALNAME:Cow Country Radio
X-ORIGINAL-URL:https://www.cowcountry.us
X-WR-CALDESC:Events for Cow Country Radio
REFRESH-INTERVAL;VALUE=DURATION:PT1H
X-Robots-Tag:noindex
X-PUBLISHED-TTL:PT1H
BEGIN:VTIMEZONE
TZID:America/Chicago
BEGIN:DAYLIGHT
TZOFFSETFROM:-0600
TZOFFSETTO:-0500
TZNAME:CDT
DTSTART:20240310T080000
END:DAYLIGHT
BEGIN:STANDARD
TZOFFSETFROM:-0500
TZOFFSETTO:-0600
TZNAME:CST
DTSTART:20241103T070000
END:STANDARD
BEGIN:DAYLIGHT
TZOFFSETFROM:-0600
TZOFFSETTO:-0500
TZNAME:CDT
DTSTART:20250309T080000
END:DAYLIGHT
BEGIN:STANDARD
TZOFFSETFROM:-0500
TZOFFSETTO:-0600
TZNAME:CST
DTSTART:20251102T070000
END:STANDARD
BEGIN:DAYLIGHT
TZOFFSETFROM:-0600
TZOFFSETTO:-0500
TZNAME:CDT
DTSTART:20260308T080000
END:DAYLIGHT
BEGIN:STANDARD
TZOFFSETFROM:-0500
TZOFFSETTO:-0600
TZNAME:CST
DTSTART:20261101T070000
END:STANDARD
END:VTIMEZONE
BEGIN:VEVENT
DTSTART;TZID=America/Chicago:20250907T100000
DTEND;TZID=America/Chicago:20250907T170000
DTSTAMP:20260421T053146
CREATED:20250902T165711Z
LAST-MODIFIED:20250902T165711Z
UID:1738-1757239200-1757264400@www.cowcountry.us
SUMMARY:Sheboygan County Humane Society Brat Fry and Benefit
DESCRIPTION:The Sheboygan County Humane Society Brat Fry and Benefit will be at Daves Whos Inn on\nIndiana Avenue in Sheboygan on Sunday (September 7 th ) at 11.
URL:https://www.cowcountry.us/event/sheboygan-county-humane-society-brat-fry-and-benefit/
LOCATION:Dave’s Who’s Inn\, 835 Indiana Ave\, Sheboygan\, WI\, United States
END:VEVENT
BEGIN:VEVENT
DTSTART;TZID=America/Chicago:20250907T100000
DTEND;TZID=America/Chicago:20250907T190000
DTSTAMP:20260421T053146
CREATED:20250902T165253Z
LAST-MODIFIED:20250902T165253Z
UID:1734-1757239200-1757271600@www.cowcountry.us
SUMMARY:Ada Fire Department Brat Fry
DESCRIPTION:The Ada Fire Department Brat Fry is Sunday from 10 to 7 at the Firehouse. Raffles\, Brats\,\nBurgers\, and Chicken and Steak Sanwiches.
URL:https://www.cowcountry.us/event/ada-fire-department-brat-fry/
LOCATION:Ada Fire Department\, W3984 State Road 32\, Elkhart Lake\, WI\, United States
END:VEVENT
BEGIN:VEVENT
DTSTART;TZID=America/Chicago:20250907T130000
DTEND;TZID=America/Chicago:20250907T150000
DTSTAMP:20260421T053146
CREATED:20250618T175433Z
LAST-MODIFIED:20250618T175433Z
UID:1583-1757250000-1757257200@www.cowcountry.us
SUMMARY:Creekside Garden Tractor Pull
DESCRIPTION:Creekside Garden Tractor Pullers are in action at Racer’s Hall
URL:https://www.cowcountry.us/event/creekside-garden-tractor-pull-6/
LOCATION:Racer’s Hall\, W4408 County Road C\, Plymouth\, WI\, 53073\, United States
END:VEVENT
END:VCALENDAR