BEGIN:VCALENDAR
VERSION:2.0
PRODID:-//Cow Country Radio - ECPv6.15.20//NONSGML v1.0//EN
CALSCALE:GREGORIAN
METHOD:PUBLISH
X-ORIGINAL-URL:https://www.cowcountry.us
X-WR-CALDESC:Events for Cow Country Radio
REFRESH-INTERVAL;VALUE=DURATION:PT1H
X-Robots-Tag:noindex
X-PUBLISHED-TTL:PT1H
BEGIN:VTIMEZONE
TZID:America/Chicago
BEGIN:DAYLIGHT
TZOFFSETFROM:-0600
TZOFFSETTO:-0500
TZNAME:CDT
DTSTART:20240310T080000
END:DAYLIGHT
BEGIN:STANDARD
TZOFFSETFROM:-0500
TZOFFSETTO:-0600
TZNAME:CST
DTSTART:20241103T070000
END:STANDARD
BEGIN:DAYLIGHT
TZOFFSETFROM:-0600
TZOFFSETTO:-0500
TZNAME:CDT
DTSTART:20250309T080000
END:DAYLIGHT
BEGIN:STANDARD
TZOFFSETFROM:-0500
TZOFFSETTO:-0600
TZNAME:CST
DTSTART:20251102T070000
END:STANDARD
BEGIN:DAYLIGHT
TZOFFSETFROM:-0600
TZOFFSETTO:-0500
TZNAME:CDT
DTSTART:20260308T080000
END:DAYLIGHT
BEGIN:STANDARD
TZOFFSETFROM:-0500
TZOFFSETTO:-0600
TZNAME:CST
DTSTART:20261101T070000
END:STANDARD
END:VTIMEZONE
BEGIN:VEVENT
DTSTART;TZID=America/Chicago:20250920T080000
DTEND;TZID=America/Chicago:20250920T140000
DTSTAMP:20260421T053413
CREATED:20250915T172853Z
LAST-MODIFIED:20250915T172904Z
UID:1767-1758355200-1758376800@www.cowcountry.us
SUMMARY:Pheasants Forever Fundraiser
DESCRIPTION:The Sheboygan and Manitowoc Pheasants Forever Chapter Fundraiser for Education and\nHabitat Care will be at Miesfelds in Sheboygan on Saturday from 8 to 2.
URL:https://www.cowcountry.us/event/pheasants-forever-fundraiser/
LOCATION:Miesfelds\, 4811 Venture Dr\, Sheboygan\, WI\, 53083\, United States
END:VEVENT
BEGIN:VEVENT
DTSTART;TZID=America/Chicago:20250920T080000
DTEND;TZID=America/Chicago:20250920T170000
DTSTAMP:20260421T053413
CREATED:20250915T173115Z
LAST-MODIFIED:20250915T173115Z
UID:1772-1758355200-1758387600@www.cowcountry.us
SUMMARY:Elktoberfest
DESCRIPTION:The annual Elktoberfest will return to Elkhart Lake Sept. 20. The day will kick off with a\nfarmers&Artisans market\, open from 8 a.m. to noon\, and a 5K run/walk\, starting at 9 a.m. Pumpkin\nbowling\, and pretzel cookie decorating and music.
URL:https://www.cowcountry.us/event/elktoberfest/
LOCATION:Downtown Elkhart Lake\, Elkhart Lake\, WI\, 53020\, United States
END:VEVENT
BEGIN:VEVENT
DTSTART;TZID=America/Chicago:20250920T083000
DTEND;TZID=America/Chicago:20250920T170000
DTSTAMP:20260421T053413
CREATED:20250905T192316Z
LAST-MODIFIED:20250905T192316Z
UID:1757-1758357000-1758387600@www.cowcountry.us
SUMMARY:Walk to End Alzheimer’s
DESCRIPTION:The Walk to End Alzheimer’s is Saturday at Evergreen Park in Sheboygan.
URL:https://www.cowcountry.us/event/walk-to-end-alzheimers/
LOCATION:Evergreen Park\, 3030 Calumet Drive\, Sheboygan\, WI\, 53083\, United States
END:VEVENT
BEGIN:VEVENT
DTSTART;TZID=America/Chicago:20250920T163000
DTEND;TZID=America/Chicago:20250920T230000
DTSTAMP:20260421T053413
CREATED:20250609T172143Z
LAST-MODIFIED:20250902T170209Z
UID:1518-1758385800-1758409200@www.cowcountry.us
SUMMARY:Plymouth Dirt Track Racing
DESCRIPTION:Plymouth Dirt Track racing is on Saturday night at the Sheboygan County Fair Park . Wildman Classic featuring Dirt Kings
URL:https://www.cowcountry.us/event/plymouth-dirt-track-racing-7/
LOCATION:Sheboygan County Fair Park\, 229 Fairview Drive\, Plymouth\, WI\, 53073
END:VEVENT
END:VCALENDAR