BEGIN:VCALENDAR
VERSION:2.0
PRODID:-//Cow Country Radio - ECPv6.15.20//NONSGML v1.0//EN
CALSCALE:GREGORIAN
METHOD:PUBLISH
X-ORIGINAL-URL:https://www.cowcountry.us
X-WR-CALDESC:Events for Cow Country Radio
REFRESH-INTERVAL;VALUE=DURATION:PT1H
X-Robots-Tag:noindex
X-PUBLISHED-TTL:PT1H
BEGIN:VTIMEZONE
TZID:America/Chicago
BEGIN:DAYLIGHT
TZOFFSETFROM:-0600
TZOFFSETTO:-0500
TZNAME:CDT
DTSTART:20240310T080000
END:DAYLIGHT
BEGIN:STANDARD
TZOFFSETFROM:-0500
TZOFFSETTO:-0600
TZNAME:CST
DTSTART:20241103T070000
END:STANDARD
BEGIN:DAYLIGHT
TZOFFSETFROM:-0600
TZOFFSETTO:-0500
TZNAME:CDT
DTSTART:20250309T080000
END:DAYLIGHT
BEGIN:STANDARD
TZOFFSETFROM:-0500
TZOFFSETTO:-0600
TZNAME:CST
DTSTART:20251102T070000
END:STANDARD
BEGIN:DAYLIGHT
TZOFFSETFROM:-0600
TZOFFSETTO:-0500
TZNAME:CDT
DTSTART:20260308T080000
END:DAYLIGHT
BEGIN:STANDARD
TZOFFSETFROM:-0500
TZOFFSETTO:-0600
TZNAME:CST
DTSTART:20261101T070000
END:STANDARD
END:VTIMEZONE
BEGIN:VEVENT
DTSTART;TZID=America/Chicago:20251002T180000
DTEND;TZID=America/Chicago:20251005T170000
DTSTAMP:20260421T064053
CREATED:20250919T185126Z
LAST-MODIFIED:20250919T185126Z
UID:1798-1759428000-1759683600@www.cowcountry.us
SUMMARY:Sheboygan Film Festival
DESCRIPTION:Sheboygan’s first Film Festival is October 2 nd -5 th .Over 89 films will be presented.
URL:https://www.cowcountry.us/event/sheboygan-film-festival/
LOCATION:Downtown Sheboygan
END:VEVENT
BEGIN:VEVENT
DTSTART;TZID=America/Chicago:20251005T110000
DTEND;TZID=America/Chicago:20251005T190000
DTSTAMP:20260421T064053
CREATED:20250930T161721Z
LAST-MODIFIED:20250930T161735Z
UID:1835-1759662000-1759690800@www.cowcountry.us
SUMMARY:Haven Fire Fighters Brat Fry
DESCRIPTION:Haven Firefighters Brat Fry with brats\, burgers\, chicken sandwiches\, and raffles. Sunday from 11-7.
URL:https://www.cowcountry.us/event/haven-fire-fighters-brat-fry/
LOCATION:Haven Fire Department\, W980 County Road FF\, Sheboygan\, WI\, United States
END:VEVENT
BEGIN:VEVENT
DTSTART;TZID=America/Chicago:20251005T130000
DTEND;TZID=America/Chicago:20251005T150000
DTSTAMP:20260421T064053
CREATED:20250922T163013Z
LAST-MODIFIED:20250922T163013Z
UID:1823-1759669200-1759676400@www.cowcountry.us
SUMMARY:Trunk or Treat at Generations
DESCRIPTION:Trunk or Treat is at Generations on Sunday at Generations from 1-3. Trick or treating from car to car. Music and crafts and treats.
URL:https://www.cowcountry.us/event/trunk-or-treat-at-generations/
LOCATION:Generations Intergenerational Center\, 1500 Douglas Drive\, Plymouth\, WI\, 53073\, United States
END:VEVENT
END:VCALENDAR