BEGIN:VCALENDAR
VERSION:2.0
PRODID:-//Cow Country Radio - ECPv6.15.20//NONSGML v1.0//EN
CALSCALE:GREGORIAN
METHOD:PUBLISH
X-ORIGINAL-URL:https://www.cowcountry.us
X-WR-CALDESC:Events for Cow Country Radio
REFRESH-INTERVAL;VALUE=DURATION:PT1H
X-Robots-Tag:noindex
X-PUBLISHED-TTL:PT1H
BEGIN:VTIMEZONE
TZID:America/Chicago
BEGIN:DAYLIGHT
TZOFFSETFROM:-0600
TZOFFSETTO:-0500
TZNAME:CDT
DTSTART:20240310T080000
END:DAYLIGHT
BEGIN:STANDARD
TZOFFSETFROM:-0500
TZOFFSETTO:-0600
TZNAME:CST
DTSTART:20241103T070000
END:STANDARD
BEGIN:DAYLIGHT
TZOFFSETFROM:-0600
TZOFFSETTO:-0500
TZNAME:CDT
DTSTART:20250309T080000
END:DAYLIGHT
BEGIN:STANDARD
TZOFFSETFROM:-0500
TZOFFSETTO:-0600
TZNAME:CST
DTSTART:20251102T070000
END:STANDARD
BEGIN:DAYLIGHT
TZOFFSETFROM:-0600
TZOFFSETTO:-0500
TZNAME:CDT
DTSTART:20260308T080000
END:DAYLIGHT
BEGIN:STANDARD
TZOFFSETFROM:-0500
TZOFFSETTO:-0600
TZNAME:CST
DTSTART:20261101T070000
END:STANDARD
END:VTIMEZONE
BEGIN:VEVENT
DTSTART;TZID=America/Chicago:20251015T080000
DTEND;TZID=America/Chicago:20251015T220000
DTSTAMP:20260421T065337
CREATED:20251013T161608Z
LAST-MODIFIED:20251013T161608Z
UID:1894-1760515200-1760565600@www.cowcountry.us
SUMMARY:National Cheese Curd Day
DESCRIPTION:On October 15\, National Cheese Curd Day celebrates the velvety goodness of cheese curds. This delicious food holiday allows us to indulge in the unique\, funky\, snackable little pieces of yellow or white Wisconsin cheddar cheese. Did we mention they are also deep fried? \n#NationalCheeseCurdDay\nCheese Curds are one of the most unique appetizer items you can eat. One bite brings you straight to a warm buttery crunch\, followed by an ooey-gooey burst of dairyland delicacy on the inside. Made with unaged\, curdled milk with a mild\, salty flavor and a springy\, rubbery texture\, cheese curds are known for the “squeak” they make when you bite into them. They are a natural byproduct of the cheesemaking process\, most commonly cheddar. \nNATIONAL CHEESE CURD HISTORY\nCulver’s founded National Cheese Curd Day in 2015 to celebrate the delicious and snackable treat.
URL:https://www.cowcountry.us/event/national-cheese-curd-day/
LOCATION:WI
END:VEVENT
END:VCALENDAR