BEGIN:VCALENDAR
VERSION:2.0
PRODID:-//Cow Country Radio - ECPv6.15.20//NONSGML v1.0//EN
CALSCALE:GREGORIAN
METHOD:PUBLISH
X-ORIGINAL-URL:https://www.cowcountry.us
X-WR-CALDESC:Events for Cow Country Radio
REFRESH-INTERVAL;VALUE=DURATION:PT1H
X-Robots-Tag:noindex
X-PUBLISHED-TTL:PT1H
BEGIN:VTIMEZONE
TZID:America/Chicago
BEGIN:DAYLIGHT
TZOFFSETFROM:-0600
TZOFFSETTO:-0500
TZNAME:CDT
DTSTART:20240310T080000
END:DAYLIGHT
BEGIN:STANDARD
TZOFFSETFROM:-0500
TZOFFSETTO:-0600
TZNAME:CST
DTSTART:20241103T070000
END:STANDARD
BEGIN:DAYLIGHT
TZOFFSETFROM:-0600
TZOFFSETTO:-0500
TZNAME:CDT
DTSTART:20250309T080000
END:DAYLIGHT
BEGIN:STANDARD
TZOFFSETFROM:-0500
TZOFFSETTO:-0600
TZNAME:CST
DTSTART:20251102T070000
END:STANDARD
BEGIN:DAYLIGHT
TZOFFSETFROM:-0600
TZOFFSETTO:-0500
TZNAME:CDT
DTSTART:20260308T080000
END:DAYLIGHT
BEGIN:STANDARD
TZOFFSETFROM:-0500
TZOFFSETTO:-0600
TZNAME:CST
DTSTART:20261101T070000
END:STANDARD
END:VTIMEZONE
BEGIN:VEVENT
DTSTART;TZID=America/Chicago:20251016T150000
DTEND;TZID=America/Chicago:20251016T180000
DTSTAMP:20260421T064050
CREATED:20250605T113904Z
LAST-MODIFIED:20251013T160236Z
UID:1491-1760626800-1760637600@www.cowcountry.us
SUMMARY:Plymouth Farmer's Market
DESCRIPTION:The Plymouth Farmer’s Market at Stayer park!
URL:https://www.cowcountry.us/event/plymouth-farmers-market-6/
LOCATION:Stayer Park\, 39 Stafford St\, Plymouth\, WI\, 53073\, United States
END:VEVENT
BEGIN:VEVENT
DTSTART;TZID=America/Chicago:20251016T170000
DTEND;TZID=America/Chicago:20251016T190000
DTSTAMP:20260421T064050
CREATED:20250919T190018Z
LAST-MODIFIED:20250919T190018Z
UID:1808-1760634000-1760641200@www.cowcountry.us
SUMMARY:Ladies Nite Out in Sheboygan Falls
DESCRIPTION:Ladies Nite Out in Sheboygan Falls is Thursday in Sheboygan Falls at 5.
URL:https://www.cowcountry.us/event/ladies-nite-out-in-sheboygan-falls/
LOCATION:downtown Sheboygan Falls\, Sheboygan Falls\, WI\, 53085\, United States
END:VEVENT
END:VCALENDAR