BEGIN:VCALENDAR
VERSION:2.0
PRODID:-//Cow Country Radio - ECPv6.15.20//NONSGML v1.0//EN
CALSCALE:GREGORIAN
METHOD:PUBLISH
X-ORIGINAL-URL:https://www.cowcountry.us
X-WR-CALDESC:Events for Cow Country Radio
REFRESH-INTERVAL;VALUE=DURATION:PT1H
X-Robots-Tag:noindex
X-PUBLISHED-TTL:PT1H
BEGIN:VTIMEZONE
TZID:America/Chicago
BEGIN:DAYLIGHT
TZOFFSETFROM:-0600
TZOFFSETTO:-0500
TZNAME:CDT
DTSTART:20240310T080000
END:DAYLIGHT
BEGIN:STANDARD
TZOFFSETFROM:-0500
TZOFFSETTO:-0600
TZNAME:CST
DTSTART:20241103T070000
END:STANDARD
BEGIN:DAYLIGHT
TZOFFSETFROM:-0600
TZOFFSETTO:-0500
TZNAME:CDT
DTSTART:20250309T080000
END:DAYLIGHT
BEGIN:STANDARD
TZOFFSETFROM:-0500
TZOFFSETTO:-0600
TZNAME:CST
DTSTART:20251102T070000
END:STANDARD
BEGIN:DAYLIGHT
TZOFFSETFROM:-0600
TZOFFSETTO:-0500
TZNAME:CDT
DTSTART:20260308T080000
END:DAYLIGHT
BEGIN:STANDARD
TZOFFSETFROM:-0500
TZOFFSETTO:-0600
TZNAME:CST
DTSTART:20261101T070000
END:STANDARD
END:VTIMEZONE
BEGIN:VEVENT
DTSTART;TZID=America/Chicago:20251028T080000
DTEND;TZID=America/Chicago:20251031T170000
DTSTAMP:20260421T064000
CREATED:20251013T161307Z
LAST-MODIFIED:20251013T161307Z
UID:1890-1761638400-1761930000@www.cowcountry.us
SUMMARY:Great Pumpkin Pageant
DESCRIPTION:Plymouth Public Library’s 5th Annual Great Pumpkin Pageant!\nMonday\, October 27th through Friday\, October 31st 2025! \nHere’s how to participate:\nBuy a pumpkin.\nDecorate it and make it book inspired! NO CARVED PUMPKINS\, just use glue and paint!\nDrop off your pumpkins on Monday\, October 27th to go on display at the library.\nStarting Tuesday\, October 28th\, come into the library and vote for your favorite pumpkin —the one with the most votes gets a prize! \nPumpkins will be on display through Friday\, October 31st. You can pick up your pumpkin to take home on Friday\, otherwise they will be discarded. \nIf you’d like to participate without bringing your pumpkin to the library\, be sure to tag us on social media and use the hashtag #PPLPumpkinPageant so we can see your pumpkins! \nAny questions can be directed to the Youth Services Librarian\, Miss Sam.
URL:https://www.cowcountry.us/event/great-pumpkin-pageant/
LOCATION:Plymouth Public Library\, 130 Division St.\, Plymouth\, WI\, 53073\, United States
END:VEVENT
BEGIN:VEVENT
DTSTART;TZID=America/Chicago:20251030T183000
DTEND;TZID=America/Chicago:20251102T223000
DTSTAMP:20260421T064000
CREATED:20250930T181823Z
LAST-MODIFIED:20251030T152535Z
UID:1849-1761849000-1762122600@www.cowcountry.us
SUMMARY:Sheboygan's Haunted Asylum
DESCRIPTION:
URL:https://www.cowcountry.us/event/sheboygans-haunted-asylum/
LOCATION:Sheboygan Asylum\, N3773 Garden Parkway\, Sheboygan Falls\, WI\, 53085\, United States
END:VEVENT
BEGIN:VEVENT
DTSTART;TZID=America/Chicago:20251030T190000
DTEND;TZID=America/Chicago:20251102T160000
DTSTAMP:20260421T064000
CREATED:20251027T173542Z
LAST-MODIFIED:20251027T173542Z
UID:1929-1761850800-1762099200@www.cowcountry.us
SUMMARY:"Our Town" at PHS
DESCRIPTION:“Our Town” will be presented by the Plymouth High School Drama Department at 7pm Thursday-\nSaturday (30th -November 1st) and at 2pm on Sunday afternoon 11/2 in the Plymouth High\nSchool Auditorium.
URL:https://www.cowcountry.us/event/our-town-at-phs/
LOCATION:Plymouth Comprehensive High School\, 125 S Highland Ave\, Plymouth\, WI\, 53073\, United States
END:VEVENT
END:VCALENDAR