BEGIN:VCALENDAR
VERSION:2.0
PRODID:-//Cow Country Radio - ECPv6.15.20//NONSGML v1.0//EN
CALSCALE:GREGORIAN
METHOD:PUBLISH
X-WR-CALNAME:Cow Country Radio
X-ORIGINAL-URL:https://www.cowcountry.us
X-WR-CALDESC:Events for Cow Country Radio
REFRESH-INTERVAL;VALUE=DURATION:PT1H
X-Robots-Tag:noindex
X-PUBLISHED-TTL:PT1H
BEGIN:VTIMEZONE
TZID:America/Chicago
BEGIN:DAYLIGHT
TZOFFSETFROM:-0600
TZOFFSETTO:-0500
TZNAME:CDT
DTSTART:20240310T080000
END:DAYLIGHT
BEGIN:STANDARD
TZOFFSETFROM:-0500
TZOFFSETTO:-0600
TZNAME:CST
DTSTART:20241103T070000
END:STANDARD
BEGIN:DAYLIGHT
TZOFFSETFROM:-0600
TZOFFSETTO:-0500
TZNAME:CDT
DTSTART:20250309T080000
END:DAYLIGHT
BEGIN:STANDARD
TZOFFSETFROM:-0500
TZOFFSETTO:-0600
TZNAME:CST
DTSTART:20251102T070000
END:STANDARD
BEGIN:DAYLIGHT
TZOFFSETFROM:-0600
TZOFFSETTO:-0500
TZNAME:CDT
DTSTART:20260308T080000
END:DAYLIGHT
BEGIN:STANDARD
TZOFFSETFROM:-0500
TZOFFSETTO:-0600
TZNAME:CST
DTSTART:20261101T070000
END:STANDARD
END:VTIMEZONE
BEGIN:VEVENT
DTSTART;TZID=America/Chicago:20251105T080000
DTEND;TZID=America/Chicago:20251105T130000
DTSTAMP:20260421T074954
CREATED:20251103T191755Z
LAST-MODIFIED:20251103T191755Z
UID:1943-1762329600-1762347600@www.cowcountry.us
SUMMARY:Blood Drive at the Plymouth High School
DESCRIPTION:Blood Drive at the Plymouth High School on Wednesday from 8:15 to 1 in the school gym. Appointments available at rcblood.org.
URL:https://www.cowcountry.us/event/blood-drive-at-the-plymouth-high-school/
LOCATION:Plymouth Comprehensive High School\, 125 S Highland Ave\, Plymouth\, WI\, 53073\, United States
END:VEVENT
END:VCALENDAR