BEGIN:VCALENDAR
VERSION:2.0
PRODID:-//Cow Country Radio - ECPv6.15.20//NONSGML v1.0//EN
CALSCALE:GREGORIAN
METHOD:PUBLISH
X-WR-CALNAME:Cow Country Radio
X-ORIGINAL-URL:https://www.cowcountry.us
X-WR-CALDESC:Events for Cow Country Radio
REFRESH-INTERVAL;VALUE=DURATION:PT1H
X-Robots-Tag:noindex
X-PUBLISHED-TTL:PT1H
BEGIN:VTIMEZONE
TZID:America/Chicago
BEGIN:DAYLIGHT
TZOFFSETFROM:-0600
TZOFFSETTO:-0500
TZNAME:CDT
DTSTART:20240310T080000
END:DAYLIGHT
BEGIN:STANDARD
TZOFFSETFROM:-0500
TZOFFSETTO:-0600
TZNAME:CST
DTSTART:20241103T070000
END:STANDARD
BEGIN:DAYLIGHT
TZOFFSETFROM:-0600
TZOFFSETTO:-0500
TZNAME:CDT
DTSTART:20250309T080000
END:DAYLIGHT
BEGIN:STANDARD
TZOFFSETFROM:-0500
TZOFFSETTO:-0600
TZNAME:CST
DTSTART:20251102T070000
END:STANDARD
BEGIN:DAYLIGHT
TZOFFSETFROM:-0600
TZOFFSETTO:-0500
TZNAME:CDT
DTSTART:20260308T080000
END:DAYLIGHT
BEGIN:STANDARD
TZOFFSETFROM:-0500
TZOFFSETTO:-0600
TZNAME:CST
DTSTART:20261101T070000
END:STANDARD
END:VTIMEZONE
BEGIN:VEVENT
DTSTART;TZID=America/Chicago:20251113T173000
DTEND;TZID=America/Chicago:20251113T193000
DTSTAMP:20260421T074953
CREATED:20251103T194311Z
LAST-MODIFIED:20251103T194311Z
UID:1956-1763055000-1763062200@www.cowcountry.us
SUMMARY:Mom's Night out at Generations
DESCRIPTION:Mom’s night out is at Generations in Plymouth from 5:30 to 7:30 on Thursday 13th. Enjoy a\nworkout. Childcare available. Free\, but Register by Wednesday the 5th.
URL:https://www.cowcountry.us/event/moms-night-out-at-generations/
LOCATION:Generations Intergenerational Center\, 1500 Douglas Drive\, Plymouth\, WI\, 53073\, United States
END:VEVENT
END:VCALENDAR