BEGIN:VCALENDAR
VERSION:2.0
PRODID:-//Cow Country Radio - ECPv6.15.20//NONSGML v1.0//EN
CALSCALE:GREGORIAN
METHOD:PUBLISH
X-ORIGINAL-URL:https://www.cowcountry.us
X-WR-CALDESC:Events for Cow Country Radio
REFRESH-INTERVAL;VALUE=DURATION:PT1H
X-Robots-Tag:noindex
X-PUBLISHED-TTL:PT1H
BEGIN:VTIMEZONE
TZID:America/Chicago
BEGIN:DAYLIGHT
TZOFFSETFROM:-0600
TZOFFSETTO:-0500
TZNAME:CDT
DTSTART:20240310T080000
END:DAYLIGHT
BEGIN:STANDARD
TZOFFSETFROM:-0500
TZOFFSETTO:-0600
TZNAME:CST
DTSTART:20241103T070000
END:STANDARD
BEGIN:DAYLIGHT
TZOFFSETFROM:-0600
TZOFFSETTO:-0500
TZNAME:CDT
DTSTART:20250309T080000
END:DAYLIGHT
BEGIN:STANDARD
TZOFFSETFROM:-0500
TZOFFSETTO:-0600
TZNAME:CST
DTSTART:20251102T070000
END:STANDARD
BEGIN:DAYLIGHT
TZOFFSETFROM:-0600
TZOFFSETTO:-0500
TZNAME:CDT
DTSTART:20260308T080000
END:DAYLIGHT
BEGIN:STANDARD
TZOFFSETFROM:-0500
TZOFFSETTO:-0600
TZNAME:CST
DTSTART:20261101T070000
END:STANDARD
END:VTIMEZONE
BEGIN:VEVENT
DTSTART;TZID=America/Chicago:20251115T100000
DTEND;TZID=America/Chicago:20251115T140000
DTSTAMP:20260421T075159
CREATED:20251103T192335Z
LAST-MODIFIED:20251103T192335Z
UID:1946-1763200800-1763215200@www.cowcountry.us
SUMMARY:Nutt Hill Open House
DESCRIPTION:Open house at Nutt Hill Winter Park in Plymouth from 10 to 2 showcasing the rececnt\nrenovations made on Saturday. Food an Beverage truck will be on site.
URL:https://www.cowcountry.us/event/nutt-hill-open-house/
LOCATION:Nutt Hill Winter Park\, 750 West Main St.\, Plymouth\, WI\, 54073\, United States
ORGANIZER;CN="Cheese Capital Winter Park":MAILTO:nutthillplymouth@gmail.com
END:VEVENT
BEGIN:VEVENT
DTSTART;TZID=America/Chicago:20251115T110000
DTEND;TZID=America/Chicago:20251115T140000
DTSTAMP:20260421T075159
CREATED:20251110T184142Z
LAST-MODIFIED:20251110T184142Z
UID:1960-1763204400-1763215200@www.cowcountry.us
SUMMARY:UW Alumni Club Brat Fry
DESCRIPTION:Brat Fry at 3 Sheeps Brewing in Sheboygan sponsored by the UW Alumni Club of Sheboygan\nCounty on Saturday from 11 to 2. Watch the Badgers take on Indiana with fans and\nalumni.
URL:https://www.cowcountry.us/event/uw-alumni-club-brat-fry/
LOCATION:3 Sheeps Taproom\, 1837 North Ave.\, Sheboygan\, WI\, 53083\, United States
END:VEVENT
BEGIN:VEVENT
DTSTART;TZID=America/Chicago:20251115T170000
DTEND;TZID=America/Chicago:20251115T220000
DTSTAMP:20260421T075159
CREATED:20251110T184549Z
LAST-MODIFIED:20251110T184549Z
UID:1963-1763226000-1763244000@www.cowcountry.us
SUMMARY:Marine Corps Formal Birthday Ball
DESCRIPTION:250th Marine Corps Formal Birthday Ball will be at the Osthoff Resort in Elkhart Lake on Saturday from 5 to 10.
URL:https://www.cowcountry.us/event/marine-corps-formal-birthday-ball/
LOCATION:The Osthoff Resprt\, 101 Osthoff Ave\, Elkhart Lake\, WI\, 53020\, United States
END:VEVENT
END:VCALENDAR