BEGIN:VCALENDAR
VERSION:2.0
PRODID:-//Cow Country Radio - ECPv6.15.20//NONSGML v1.0//EN
CALSCALE:GREGORIAN
METHOD:PUBLISH
X-WR-CALNAME:Cow Country Radio
X-ORIGINAL-URL:https://www.cowcountry.us
X-WR-CALDESC:Events for Cow Country Radio
REFRESH-INTERVAL;VALUE=DURATION:PT1H
X-Robots-Tag:noindex
X-PUBLISHED-TTL:PT1H
BEGIN:VTIMEZONE
TZID:America/Chicago
BEGIN:DAYLIGHT
TZOFFSETFROM:-0600
TZOFFSETTO:-0500
TZNAME:CDT
DTSTART:20240310T080000
END:DAYLIGHT
BEGIN:STANDARD
TZOFFSETFROM:-0500
TZOFFSETTO:-0600
TZNAME:CST
DTSTART:20241103T070000
END:STANDARD
BEGIN:DAYLIGHT
TZOFFSETFROM:-0600
TZOFFSETTO:-0500
TZNAME:CDT
DTSTART:20250309T080000
END:DAYLIGHT
BEGIN:STANDARD
TZOFFSETFROM:-0500
TZOFFSETTO:-0600
TZNAME:CST
DTSTART:20251102T070000
END:STANDARD
BEGIN:DAYLIGHT
TZOFFSETFROM:-0600
TZOFFSETTO:-0500
TZNAME:CDT
DTSTART:20260308T080000
END:DAYLIGHT
BEGIN:STANDARD
TZOFFSETFROM:-0500
TZOFFSETTO:-0600
TZNAME:CST
DTSTART:20261101T070000
END:STANDARD
END:VTIMEZONE
BEGIN:VEVENT
DTSTART;TZID=America/Chicago:20251121T193000
DTEND;TZID=America/Chicago:20251123T150000
DTSTAMP:20260421T074927
CREATED:20251110T185303Z
LAST-MODIFIED:20251110T185741Z
UID:1969-1763753400-1763910000@www.cowcountry.us
SUMMARY:Celtic Christmas with Celtic Folk
DESCRIPTION:Celtic Christmas with Celtic Folk is at the Plymouth Arts Center on Friday and Saturday at 7:30PM and Sunday at 2:30.  The Plymouth Arts Center invites you to kick off the holiday season with “Celtic Christmas”\, a live musical celebration filled with heart\, harmony\, and holiday cheer. Featuring the beloved ensemble Celtic Folk\, this enchanting concert blends traditional\, contemporary\, and sacred Christmas music into one unforgettable experience.
URL:https://www.cowcountry.us/event/celtic-christmas-with-celtic-folk/
LOCATION:Plymouth Arts Center\, 520 East Mill Street\, Plymouth\, WI\, 53073
END:VEVENT
END:VCALENDAR