BEGIN:VCALENDAR
VERSION:2.0
PRODID:-//Cow Country Radio - ECPv6.15.20//NONSGML v1.0//EN
CALSCALE:GREGORIAN
METHOD:PUBLISH
X-WR-CALNAME:Cow Country Radio
X-ORIGINAL-URL:https://www.cowcountry.us
X-WR-CALDESC:Events for Cow Country Radio
REFRESH-INTERVAL;VALUE=DURATION:PT1H
X-Robots-Tag:noindex
X-PUBLISHED-TTL:PT1H
BEGIN:VTIMEZONE
TZID:America/Chicago
BEGIN:DAYLIGHT
TZOFFSETFROM:-0600
TZOFFSETTO:-0500
TZNAME:CDT
DTSTART:20240310T080000
END:DAYLIGHT
BEGIN:STANDARD
TZOFFSETFROM:-0500
TZOFFSETTO:-0600
TZNAME:CST
DTSTART:20241103T070000
END:STANDARD
BEGIN:DAYLIGHT
TZOFFSETFROM:-0600
TZOFFSETTO:-0500
TZNAME:CDT
DTSTART:20250309T080000
END:DAYLIGHT
BEGIN:STANDARD
TZOFFSETFROM:-0500
TZOFFSETTO:-0600
TZNAME:CST
DTSTART:20251102T070000
END:STANDARD
BEGIN:DAYLIGHT
TZOFFSETFROM:-0600
TZOFFSETTO:-0500
TZNAME:CDT
DTSTART:20260308T080000
END:DAYLIGHT
BEGIN:STANDARD
TZOFFSETFROM:-0500
TZOFFSETTO:-0600
TZNAME:CST
DTSTART:20261101T070000
END:STANDARD
END:VTIMEZONE
BEGIN:VEVENT
DTSTART;TZID=America/Chicago:20251128T120000
DTEND;TZID=America/Chicago:20251230T170000
DTSTAMP:20260421T074928
CREATED:20251121T202043Z
LAST-MODIFIED:20251121T202043Z
UID:1977-1764331200-1767114000@www.cowcountry.us
SUMMARY:Holiday Memories is at the Sheboygan County Museum
DESCRIPTION:Holiday Memories is at the Sheboygan County Museum on Taylor Drive in Sheboygan starting\nNovember 28 th and running through December 30 th . Hours Monday-Tuesday from noon to 7\nand Wednesday-Sunday from noon to 5. Closed Thanksgiving\, Christmas Eve\, and Christmas\nDay. \nJoin the Sheboygan County Museum at the annual Holiday Memories event – a destination to create memories alongside sharing in an experience of years past. \nA magical exhibition rooted in the animated holiday window displays of Sheboygan’s H.C. Prange Company Department Store is accompanied by favorites Bruce the Spruce\, vintage Garton Toys to pedal in the ride-on corral\, and family friendly activities. The joy continues campus wide with festively decorated Community Trees\, the David Taylor House and Weinhold Log Cabin. \nMake plans now to visit or dive into one of the many merry scheduled events.
URL:https://www.cowcountry.us/event/holiday-memories-is-at-the-sheboygan-county-museum/
LOCATION:Sheboygan County Museum\, 3110 Erie Ave.\, Sheboygan\, WI\, 53081\, United States
END:VEVENT
BEGIN:VEVENT
DTSTART;TZID=America/Chicago:20251128T170000
DTEND;TZID=America/Chicago:20251231T210000
DTSTAMP:20260421T074928
CREATED:20251124T193624Z
LAST-MODIFIED:20251229T171748Z
UID:1991-1764349200-1767214800@www.cowcountry.us
SUMMARY:Making Spirits Bright Light Show
DESCRIPTION:Embark on a magical journey through the 1.1-mile\, forested route of Evergreen Park\, where stunning light displays are perfectly synchronized to festive music broadcasted through your vehicle’s radio. \nAs you enter\, help brighten the season by donating food pantry items at the entrance. \nChildren are invited to share their holiday wishes by dropping letters to Santa in the mailbox at the North Pole Post Office. \nBefore you leave\, stop by the igloo\, where our friendly volunteers will provide complimentary event guides and graciously accept donations to help support and grow this enchanting light show for years to come.
URL:https://www.cowcountry.us/event/making-spirits-bright-light-show/
LOCATION:Evergreen Park\, 3030 Calumet Drive\, Sheboygan\, WI\, 53083\, United States
END:VEVENT
BEGIN:VEVENT
DTSTART;TZID=America/Chicago:20251205T100000
DTEND;TZID=America/Chicago:20251214T170000
DTSTAMP:20260421T074928
CREATED:20251202T150315Z
LAST-MODIFIED:20251202T150315Z
UID:2016-1764928800-1765731600@www.cowcountry.us
SUMMARY:Old World Christmas Market
DESCRIPTION:Old World Christmas Market is at the Osthoff Resort in Elkhart Lake December 5 th -14 th . Daily\nfrom 10 to 5.
URL:https://www.cowcountry.us/event/old-world-christmas-market/
LOCATION:The Osthoff Resprt\, 101 Osthoff Ave\, Elkhart Lake\, WI\, 53020\, United States
END:VEVENT
BEGIN:VEVENT
DTSTART;TZID=America/Chicago:20251206T080000
DTEND;TZID=America/Chicago:20251206T120000
DTSTAMP:20260421T074928
CREATED:20251202T154126Z
LAST-MODIFIED:20251202T161505Z
UID:2027-1765008000-1765022400@www.cowcountry.us
SUMMARY:St. Paul Ladies Auxiliary Annual Cookie Sale
DESCRIPTION:St. Paul Ladies Auxiliary Annual Cookie Sale is Saturday starting at 8am until they\nare sold out. County Road PPP in Sheboygan Falls.
URL:https://www.cowcountry.us/event/st-paul-ladies-auxiliary-annual-cookie-sale/
LOCATION:St. Paul Lutheran Church\, 730 CTH PPP\, Sheboygan Falls\, WI\, United States
END:VEVENT
BEGIN:VEVENT
DTSTART;TZID=America/Chicago:20251206T080000
DTEND;TZID=America/Chicago:20251206T120000
DTSTAMP:20260421T074928
CREATED:20251202T154452Z
LAST-MODIFIED:20251202T154452Z
UID:2031-1765008000-1765022400@www.cowcountry.us
SUMMARY:Cookie Walk at First Reformed Church
DESCRIPTION:Cookie Walk at First Reformed Church of Sheboygan Falls during Main Street Memories on\nSaturday from 8 to noon.
URL:https://www.cowcountry.us/event/cookie-walk-at-first-reformed-church/
LOCATION:First Reformed Church\, 527 Giddings Ave\, Sheboygan Falls\, WI\, 53085\, United States
END:VEVENT
BEGIN:VEVENT
DTSTART;TZID=America/Chicago:20251206T080000
DTEND;TZID=America/Chicago:20251206T130000
DTSTAMP:20260421T074928
CREATED:20251202T153541Z
LAST-MODIFIED:20251202T153541Z
UID:2023-1765008000-1765026000@www.cowcountry.us
SUMMARY:Jingle and Mingle Festival at Generations
DESCRIPTION:Jingle and Mingle Festival at Generations in Plymouth on Saturday from 8 to 1.\nFree breakfast served from 8 to noon. Free photos with Santa.
URL:https://www.cowcountry.us/event/jingle-and-mingle-festival-at-generations/
LOCATION:Generations Intergenerational Center\, 1500 Douglas Drive\, Plymouth\, WI\, 53073\, United States
END:VEVENT
BEGIN:VEVENT
DTSTART;TZID=America/Chicago:20251206T100000
DTEND;TZID=America/Chicago:20251206T150000
DTSTAMP:20260421T074928
CREATED:20251202T154952Z
LAST-MODIFIED:20251202T154952Z
UID:2035-1765015200-1765033200@www.cowcountry.us
SUMMARY:Town of Scott Annual Holiday Fair
DESCRIPTION:Town of Scott Annual Holiday Fair at the Community Center in Adell on Saturday from 10 to 3.
URL:https://www.cowcountry.us/event/town-of-scott-annual-holiday-fair/
LOCATION:Adell Community Center\, 510 Seifert St\, Adell\, WI\, 53001\, United States
END:VEVENT
BEGIN:VEVENT
DTSTART;TZID=America/Chicago:20251206T110000
DTEND;TZID=America/Chicago:20251206T150000
DTSTAMP:20260421T074928
CREATED:20251202T150621Z
LAST-MODIFIED:20251202T150621Z
UID:2019-1765018800-1765033200@www.cowcountry.us
SUMMARY:Charming Downtown Christmas
DESCRIPTION:Charming Downtown Christmas in Plymouth on Saturday from 11 to 3.
URL:https://www.cowcountry.us/event/charming-downtown-christmas/
LOCATION:Downtown Plymouth\, Plymouth\, WI\, 53073\, United States
END:VEVENT
BEGIN:VEVENT
DTSTART;TZID=America/Chicago:20251206T110000
DTEND;TZID=America/Chicago:20251206T170000
DTSTAMP:20260421T074928
CREATED:20251202T150840Z
LAST-MODIFIED:20251202T150840Z
UID:2021-1765018800-1765040400@www.cowcountry.us
SUMMARY:Main Street Memories
DESCRIPTION:Main Street Memories is Saturday in Sheboygan Falls. Activities and music from\n11 to 4. Parade starts 4:30. Tree lighting follows the parade.
URL:https://www.cowcountry.us/event/main-street-memories/
LOCATION:downtown Sheboygan Falls\, Sheboygan Falls\, WI\, 53085\, United States
END:VEVENT
BEGIN:VEVENT
DTSTART;TZID=America/Chicago:20251206T120000
DTEND;TZID=America/Chicago:20251206T160000
DTSTAMP:20260421T074928
CREATED:20251202T153735Z
LAST-MODIFIED:20251202T153735Z
UID:2025-1765022400-1765036800@www.cowcountry.us
SUMMARY:Elkhart Lake Holiday Open House
DESCRIPTION:Elkhart Lake Holiday Open House is Saturday from Noon to 4.
URL:https://www.cowcountry.us/event/elkhart-lake-holiday-open-house/
LOCATION:Downtown Elkhart Lake\, Elkhart Lake\, WI\, 53020\, United States
END:VEVENT
BEGIN:VEVENT
DTSTART;TZID=America/Chicago:20251206T160000
DTEND;TZID=America/Chicago:20251206T190000
DTSTAMP:20260421T074928
CREATED:20251202T155500Z
LAST-MODIFIED:20251202T155500Z
UID:2039-1765036800-1765047600@www.cowcountry.us
SUMMARY:Hayride with Santa
DESCRIPTION:Hayride with Santa on Saturday from 4 to7 at the Cascade Village Hall to take a ride to see\nthe Christmas decorations. Hot dogs and hot chocolate will be available.
URL:https://www.cowcountry.us/event/hayride-with-santa/
LOCATION:Cascade Village Hall\, 301 1st St\, Cascade\, WI\, 53011\, United States
END:VEVENT
END:VCALENDAR