BEGIN:VCALENDAR
VERSION:2.0
PRODID:-//Cow Country Radio - ECPv6.15.20//NONSGML v1.0//EN
CALSCALE:GREGORIAN
METHOD:PUBLISH
X-WR-CALNAME:Cow Country Radio
X-ORIGINAL-URL:https://www.cowcountry.us
X-WR-CALDESC:Events for Cow Country Radio
REFRESH-INTERVAL;VALUE=DURATION:PT1H
X-Robots-Tag:noindex
X-PUBLISHED-TTL:PT1H
BEGIN:VTIMEZONE
TZID:America/Chicago
BEGIN:DAYLIGHT
TZOFFSETFROM:-0600
TZOFFSETTO:-0500
TZNAME:CDT
DTSTART:20240310T080000
END:DAYLIGHT
BEGIN:STANDARD
TZOFFSETFROM:-0500
TZOFFSETTO:-0600
TZNAME:CST
DTSTART:20241103T070000
END:STANDARD
BEGIN:DAYLIGHT
TZOFFSETFROM:-0600
TZOFFSETTO:-0500
TZNAME:CDT
DTSTART:20250309T080000
END:DAYLIGHT
BEGIN:STANDARD
TZOFFSETFROM:-0500
TZOFFSETTO:-0600
TZNAME:CST
DTSTART:20251102T070000
END:STANDARD
BEGIN:DAYLIGHT
TZOFFSETFROM:-0600
TZOFFSETTO:-0500
TZNAME:CDT
DTSTART:20260308T080000
END:DAYLIGHT
BEGIN:STANDARD
TZOFFSETFROM:-0500
TZOFFSETTO:-0600
TZNAME:CST
DTSTART:20261101T070000
END:STANDARD
END:VTIMEZONE
BEGIN:VEVENT
DTSTART;TZID=America/Chicago:20251128T120000
DTEND;TZID=America/Chicago:20251230T170000
DTSTAMP:20260421T090852
CREATED:20251121T202043Z
LAST-MODIFIED:20251121T202043Z
UID:1977-1764331200-1767114000@www.cowcountry.us
SUMMARY:Holiday Memories is at the Sheboygan County Museum
DESCRIPTION:Holiday Memories is at the Sheboygan County Museum on Taylor Drive in Sheboygan starting\nNovember 28 th and running through December 30 th . Hours Monday-Tuesday from noon to 7\nand Wednesday-Sunday from noon to 5. Closed Thanksgiving\, Christmas Eve\, and Christmas\nDay. \nJoin the Sheboygan County Museum at the annual Holiday Memories event – a destination to create memories alongside sharing in an experience of years past. \nA magical exhibition rooted in the animated holiday window displays of Sheboygan’s H.C. Prange Company Department Store is accompanied by favorites Bruce the Spruce\, vintage Garton Toys to pedal in the ride-on corral\, and family friendly activities. The joy continues campus wide with festively decorated Community Trees\, the David Taylor House and Weinhold Log Cabin. \nMake plans now to visit or dive into one of the many merry scheduled events.
URL:https://www.cowcountry.us/event/holiday-memories-is-at-the-sheboygan-county-museum/
LOCATION:Sheboygan County Museum\, 3110 Erie Ave.\, Sheboygan\, WI\, 53081\, United States
END:VEVENT
BEGIN:VEVENT
DTSTART;TZID=America/Chicago:20251128T170000
DTEND;TZID=America/Chicago:20251231T210000
DTSTAMP:20260421T090852
CREATED:20251124T193624Z
LAST-MODIFIED:20251229T171748Z
UID:1991-1764349200-1767214800@www.cowcountry.us
SUMMARY:Making Spirits Bright Light Show
DESCRIPTION:Embark on a magical journey through the 1.1-mile\, forested route of Evergreen Park\, where stunning light displays are perfectly synchronized to festive music broadcasted through your vehicle’s radio. \nAs you enter\, help brighten the season by donating food pantry items at the entrance. \nChildren are invited to share their holiday wishes by dropping letters to Santa in the mailbox at the North Pole Post Office. \nBefore you leave\, stop by the igloo\, where our friendly volunteers will provide complimentary event guides and graciously accept donations to help support and grow this enchanting light show for years to come.
URL:https://www.cowcountry.us/event/making-spirits-bright-light-show/
LOCATION:Evergreen Park\, 3030 Calumet Drive\, Sheboygan\, WI\, 53083\, United States
END:VEVENT
BEGIN:VEVENT
DTSTART;TZID=America/Chicago:20251205T100000
DTEND;TZID=America/Chicago:20251214T170000
DTSTAMP:20260421T090852
CREATED:20251202T150315Z
LAST-MODIFIED:20251202T150315Z
UID:2016-1764928800-1765731600@www.cowcountry.us
SUMMARY:Old World Christmas Market
DESCRIPTION:Old World Christmas Market is at the Osthoff Resort in Elkhart Lake December 5 th -14 th . Daily\nfrom 10 to 5.
URL:https://www.cowcountry.us/event/old-world-christmas-market/
LOCATION:The Osthoff Resprt\, 101 Osthoff Ave\, Elkhart Lake\, WI\, 53020\, United States
END:VEVENT
BEGIN:VEVENT
DTSTART;TZID=America/Chicago:20251213T100000
DTEND;TZID=America/Chicago:20251213T140000
DTSTAMP:20260421T090852
CREATED:20251202T160149Z
LAST-MODIFIED:20251202T160149Z
UID:2046-1765620000-1765634400@www.cowcountry.us
SUMMARY:Breakfast with Santa
DESCRIPTION:Breakfast with Santa is Saturday from 10 to 2 at Quit Qui Oc Golf Club in Elkhart Lake.
URL:https://www.cowcountry.us/event/breakfast-with-santa/
LOCATION:Quit Qui Oc Golf\, 500 Quit Qui Oc Ln\, Elkhart Lake\, WI\, 53020\, United States
END:VEVENT
BEGIN:VEVENT
DTSTART;TZID=America/Chicago:20251213T100000
DTEND;TZID=America/Chicago:20251214T160000
DTSTAMP:20260421T090852
CREATED:20251202T161142Z
LAST-MODIFIED:20251202T161142Z
UID:2050-1765620000-1765728000@www.cowcountry.us
SUMMARY:Wade House Christmas
DESCRIPTION:Experience the warmth and wonder of a traditional 19th-century holiday at\nA Wade House Christmas\, held Dec. 13 and 14. For one festive weekend\, the 1850s stagecoach\ninn comes alive with the sights\, sounds\, and aromas of Christmases past. Guests can enjoy\nholiday customs inspired by English and German traditions. These same traditions are also\nfeatured in the new Wade House Christmas Field Trip\, a special program designed for students\nand offered on select dates throughout the holiday season.
URL:https://www.cowcountry.us/event/wade-house-christmas/
LOCATION:Wade House Historic Site\, W7965 State Highway 23\, Greenbush\, WI\, 53026\, United States
END:VEVENT
BEGIN:VEVENT
DTSTART;TZID=America/Chicago:20251213T130000
DTEND;TZID=America/Chicago:20251213T150000
DTSTAMP:20260421T090852
CREATED:20251208T174438Z
LAST-MODIFIED:20251208T174438Z
UID:2073-1765630800-1765638000@www.cowcountry.us
SUMMARY:Meet Santa at Carsfor15K.com
DESCRIPTION:Come get a photo with Santa on December 13th at Carsfor15K.com\, N5908 Willow Rd Plymouth WI 53073
URL:https://www.cowcountry.us/event/meet-santa-at-carsfor15k-com/
LOCATION:Cars for 15K\, N5908 Willow Rd\, Plymouth\, WI\, 53073\, United States
END:VEVENT
END:VCALENDAR