BEGIN:VCALENDAR
VERSION:2.0
PRODID:-//Cow Country Radio - ECPv6.15.20//NONSGML v1.0//EN
CALSCALE:GREGORIAN
METHOD:PUBLISH
X-WR-CALNAME:Cow Country Radio
X-ORIGINAL-URL:https://www.cowcountry.us
X-WR-CALDESC:Events for Cow Country Radio
REFRESH-INTERVAL;VALUE=DURATION:PT1H
X-Robots-Tag:noindex
X-PUBLISHED-TTL:PT1H
BEGIN:VTIMEZONE
TZID:America/Chicago
BEGIN:DAYLIGHT
TZOFFSETFROM:-0600
TZOFFSETTO:-0500
TZNAME:CDT
DTSTART:20250309T080000
END:DAYLIGHT
BEGIN:STANDARD
TZOFFSETFROM:-0500
TZOFFSETTO:-0600
TZNAME:CST
DTSTART:20251102T070000
END:STANDARD
BEGIN:DAYLIGHT
TZOFFSETFROM:-0600
TZOFFSETTO:-0500
TZNAME:CDT
DTSTART:20260308T080000
END:DAYLIGHT
BEGIN:STANDARD
TZOFFSETFROM:-0500
TZOFFSETTO:-0600
TZNAME:CST
DTSTART:20261101T070000
END:STANDARD
BEGIN:DAYLIGHT
TZOFFSETFROM:-0600
TZOFFSETTO:-0500
TZNAME:CDT
DTSTART:20270314T080000
END:DAYLIGHT
BEGIN:STANDARD
TZOFFSETFROM:-0500
TZOFFSETTO:-0600
TZNAME:CST
DTSTART:20271107T070000
END:STANDARD
END:VTIMEZONE
BEGIN:VEVENT
DTSTART;TZID=America/Chicago:20260101T100000
DTEND;TZID=America/Chicago:20260101T110000
DTSTAMP:20260421T090813
CREATED:20251212T200517Z
LAST-MODIFIED:20251222T182650Z
UID:2107-1767261600-1767265200@www.cowcountry.us
SUMMARY:First Day Hike
DESCRIPTION:The First Day Hike will be at Kohler Andre State Park on Thursday at 10:00. A First Day Hike will also be held at \n\nKettle Moraine State Forest – Northern Unit
URL:https://www.cowcountry.us/event/first-day-hike/
LOCATION:Kohler-Andrae State Park\, 1020 Beach Park Lane\, Sheboygan\, WI\, 53081\, United States
END:VEVENT
BEGIN:VEVENT
DTSTART;TZID=America/Chicago:20260101T130000
DTEND;TZID=America/Chicago:20260101T133000
DTSTAMP:20260421T090813
CREATED:20251222T182939Z
LAST-MODIFIED:20251222T182939Z
UID:2135-1767272400-1767274200@www.cowcountry.us
SUMMARY:Sheboygan Polar Bear Plunge
DESCRIPTION:The Sheboygan Polar Bear plunge into Lake Michigan is Thursday\, January 1 st from 1 to 1:30 at\nDeland Park in Sheboygan.
URL:https://www.cowcountry.us/event/sheboygan-polar-bear-plunge/
LOCATION:Deland Park\, Broughton Dr\, Sheboygan\, WI\, 53081\, United States
END:VEVENT
BEGIN:VEVENT
DTSTART;TZID=America/Chicago:20260101T130000
DTEND;TZID=America/Chicago:20260101T160000
DTSTAMP:20260421T090813
CREATED:20251222T183131Z
LAST-MODIFIED:20251222T183131Z
UID:2137-1767272400-1767283200@www.cowcountry.us
SUMMARY:New Year's Day Fundraiser
DESCRIPTION:New Years Day Fundraiser for the Plymouth and Elkhart Lake Fire Departments at Jaaagz Bar\nand Grill on Highway 67 in Plymouth from 1-4. Music from Dave Steffen.
URL:https://www.cowcountry.us/event/new-years-day-fundraiser/
LOCATION:JAAAGZ Bar & Grill\, N6845 WI 67\, Plymouth\, WI\, 53073\, United States
END:VEVENT
END:VCALENDAR