BEGIN:VCALENDAR
VERSION:2.0
PRODID:-//Cow Country Radio - ECPv6.15.20//NONSGML v1.0//EN
CALSCALE:GREGORIAN
METHOD:PUBLISH
X-WR-CALNAME:Cow Country Radio
X-ORIGINAL-URL:https://www.cowcountry.us
X-WR-CALDESC:Events for Cow Country Radio
REFRESH-INTERVAL;VALUE=DURATION:PT1H
X-Robots-Tag:noindex
X-PUBLISHED-TTL:PT1H
BEGIN:VTIMEZONE
TZID:America/Chicago
BEGIN:DAYLIGHT
TZOFFSETFROM:-0600
TZOFFSETTO:-0500
TZNAME:CDT
DTSTART:20250309T080000
END:DAYLIGHT
BEGIN:STANDARD
TZOFFSETFROM:-0500
TZOFFSETTO:-0600
TZNAME:CST
DTSTART:20251102T070000
END:STANDARD
BEGIN:DAYLIGHT
TZOFFSETFROM:-0600
TZOFFSETTO:-0500
TZNAME:CDT
DTSTART:20260308T080000
END:DAYLIGHT
BEGIN:STANDARD
TZOFFSETFROM:-0500
TZOFFSETTO:-0600
TZNAME:CST
DTSTART:20261101T070000
END:STANDARD
BEGIN:DAYLIGHT
TZOFFSETFROM:-0600
TZOFFSETTO:-0500
TZNAME:CDT
DTSTART:20270314T080000
END:DAYLIGHT
BEGIN:STANDARD
TZOFFSETFROM:-0500
TZOFFSETTO:-0600
TZNAME:CST
DTSTART:20271107T070000
END:STANDARD
END:VTIMEZONE
BEGIN:VEVENT
DTSTART;TZID=America/Chicago:20260221T160000
DTEND;TZID=America/Chicago:20260221T230000
DTSTAMP:20260421T065239
CREATED:20260209T180937Z
LAST-MODIFIED:20260209T180937Z
UID:2232-1771689600-1771714800@www.cowcountry.us
SUMMARY:Boots\, Beads & Bier
DESCRIPTION:Boots\, Beads and Bier \nA Fasching Mardi Gras Country Bash\nSaturday\, February 21st\, 2026 Cocktails at 4 PM with live music by Paul Timm (Wanderlust Music)\nDelicious Buffet Dinner at 6 PM Music and Dancing at 7:30 PM with Brent Bel and the Boys\nHighlights:\nCelebrate Fasching with Bavarian flair\, Mardi Gras beads\, masks and revelry.\nCountry music to keep your boots moving.\nFestive buffet dinner inspired by all three traditions\nDress in your Mardi Gras beads\, Bavarian flair\, or country chic — and get ready for a night of indulgence\, laughter\, and unforgettable music. Special features throughout the evening including “Best Dressed” contest with cash prizes. Door prizes and bucket raffles\, German Biers and Tennessee Whiskey. Learn a Line Dance too!\nTickets are limited — call 920.893.9000 or click to reserve your spot today! \n 
URL:https://www.cowcountry.us/event/boots-beads-bier/
LOCATION:Laack’s Tavern & Ballroom\, W4302 County Rd Jm\, Sheboygan Falls\, WI\, 53085\, United States
END:VEVENT
END:VCALENDAR