BEGIN:VCALENDAR
VERSION:2.0
PRODID:-//Cow Country Radio - ECPv6.15.20//NONSGML v1.0//EN
CALSCALE:GREGORIAN
METHOD:PUBLISH
X-WR-CALNAME:Cow Country Radio
X-ORIGINAL-URL:https://www.cowcountry.us
X-WR-CALDESC:Events for Cow Country Radio
REFRESH-INTERVAL;VALUE=DURATION:PT1H
X-Robots-Tag:noindex
X-PUBLISHED-TTL:PT1H
BEGIN:VTIMEZONE
TZID:America/Chicago
BEGIN:DAYLIGHT
TZOFFSETFROM:-0600
TZOFFSETTO:-0500
TZNAME:CDT
DTSTART:20250309T080000
END:DAYLIGHT
BEGIN:STANDARD
TZOFFSETFROM:-0500
TZOFFSETTO:-0600
TZNAME:CST
DTSTART:20251102T070000
END:STANDARD
BEGIN:DAYLIGHT
TZOFFSETFROM:-0600
TZOFFSETTO:-0500
TZNAME:CDT
DTSTART:20260308T080000
END:DAYLIGHT
BEGIN:STANDARD
TZOFFSETFROM:-0500
TZOFFSETTO:-0600
TZNAME:CST
DTSTART:20261101T070000
END:STANDARD
BEGIN:DAYLIGHT
TZOFFSETFROM:-0600
TZOFFSETTO:-0500
TZNAME:CDT
DTSTART:20270314T080000
END:DAYLIGHT
BEGIN:STANDARD
TZOFFSETFROM:-0500
TZOFFSETTO:-0600
TZNAME:CST
DTSTART:20271107T070000
END:STANDARD
END:VTIMEZONE
BEGIN:VEVENT
DTSTART;TZID=America/Chicago:20260222T100000
DTEND;TZID=America/Chicago:20260222T190000
DTSTAMP:20260421T063800
CREATED:20260213T131218Z
LAST-MODIFIED:20260213T131218Z
UID:2251-1771754400-1771786800@www.cowcountry.us
SUMMARY:Howards Grove Firefighters Brat Fry
DESCRIPTION:The Howards Grove Firefighters Brat Fry will be Sunday from 10 to 7. Music from Sound Investment(DJ).
URL:https://www.cowcountry.us/event/howards-grove-firefighters-brat-fry/
LOCATION:Howards Grove Fire Department\, 1013 S Wisconsin Dr\, Howards Grove\, WI\, 53083\, United States
END:VEVENT
BEGIN:VEVENT
DTSTART;TZID=America/Chicago:20260222T110000
DTEND;TZID=America/Chicago:20260222T170000
DTSTAMP:20260421T063800
CREATED:20251220T205230Z
LAST-MODIFIED:20251220T205239Z
UID:2124-1771758000-1771779600@www.cowcountry.us
SUMMARY:Sheboygan County Motorcycle Club Annual Brat Fry
DESCRIPTION:The Sheboygan County Motorcycle Club Annual Brat Fry will be on February 22nd from 11-5 at\nthe Emil Mazey Hall on Superior Avenue in Sheboygan. Live music by Liquid Crush.
URL:https://www.cowcountry.us/event/sheboygan-county-motorcycle-club-annual-brat-fry/
LOCATION:Emil Mazey Hall\, 5425 Superior Ave\, Sheboygan\, WI\, 53083\, United States
END:VEVENT
END:VCALENDAR