BEGIN:VCALENDAR
VERSION:2.0
PRODID:-//Cow Country Radio - ECPv6.15.20//NONSGML v1.0//EN
CALSCALE:GREGORIAN
METHOD:PUBLISH
X-ORIGINAL-URL:https://www.cowcountry.us
X-WR-CALDESC:Events for Cow Country Radio
REFRESH-INTERVAL;VALUE=DURATION:PT1H
X-Robots-Tag:noindex
X-PUBLISHED-TTL:PT1H
BEGIN:VTIMEZONE
TZID:America/Chicago
BEGIN:DAYLIGHT
TZOFFSETFROM:-0600
TZOFFSETTO:-0500
TZNAME:CDT
DTSTART:20250309T080000
END:DAYLIGHT
BEGIN:STANDARD
TZOFFSETFROM:-0500
TZOFFSETTO:-0600
TZNAME:CST
DTSTART:20251102T070000
END:STANDARD
BEGIN:DAYLIGHT
TZOFFSETFROM:-0600
TZOFFSETTO:-0500
TZNAME:CDT
DTSTART:20260308T080000
END:DAYLIGHT
BEGIN:STANDARD
TZOFFSETFROM:-0500
TZOFFSETTO:-0600
TZNAME:CST
DTSTART:20261101T070000
END:STANDARD
BEGIN:DAYLIGHT
TZOFFSETFROM:-0600
TZOFFSETTO:-0500
TZNAME:CDT
DTSTART:20270314T080000
END:DAYLIGHT
BEGIN:STANDARD
TZOFFSETFROM:-0500
TZOFFSETTO:-0600
TZNAME:CST
DTSTART:20271107T070000
END:STANDARD
END:VTIMEZONE
BEGIN:VEVENT
DTSTART;TZID=America/Chicago:20260425T120000
DTEND;TZID=America/Chicago:20260425T170000
DTSTAMP:20260421T041601
CREATED:20260305T181644Z
LAST-MODIFIED:20260326T140724Z
UID:2366-1777118400-1777136400@www.cowcountry.us
SUMMARY:10th Annual Shop and Sip at the Shops of Elkhart Lake
DESCRIPTION:Explore the shops of Elkhart Lake as you sip wine\, enjoy treats and take advantage of special offers.\n\n\n\nJoin the Shops of Elkhart Lake for the 10th Annual Shop & Sip! Spend the day (Saturday from 12:00 pm to 5:00 pm) shopping and sipping your way through downtown Elkhart Lake. \nYOUR TICKET INCLUDES THE FOLLOWING: \n\nElkhart Lake Stemless Wine Glass\nShopping Tote\n$5 Shop & Sip Cash Voucher\nShopping Passport & Map\nList of Shopping Deals & Wines at each location\nSnacks\n\nMake a stop at each of the participating Elkhart Lake businesses to be entered to win a variety of prizes. \nTICKETS: $35 per person. Tickets must be purchased in advance.\nTickets will be NOT be available for purchase on the day of the event\, and there is a limited quantity available. \nSHOPS & GALLERIES \n\nPaddock Shop at Road America – Event Starts Here with Registration & Check-In\nQuit Qui Oc Pro Shop\nAspira Spa Boutique (located in The Osthoff Resort)\nGina’s Fine Gifts / Elkhart Lake Outfitters\nIntuitive Balance\nNordic Accents\nElk Trader Gift Shop (located in The Osthoff Resort)\nSTBF Shop\nSchamberger Gallery\nTwo Fish Gallery\nVintage Elkhart Lake\n\nTIPS: \n\nHave your Speed Pass Waiver Ready for when you enter Road America at Gate 6.\nPlan your route in advance advance with the Interactive Shop & Sip Map.\nWear comfortable shoes and weather-appropriate clothing\, since you’ll be walking outdoors between locations. This event is rain-snow-or-shine.\nBe sure to eat lunch during the day at one of our great Elkhart Lake restaurants to avoid drinking on an empty stomach. Some locations on the route will also have light snacks available to sample.\nPost photos to Instagram and Facebook using hashtag #shopsipelkhartlake or #elkhartlake\nCross the streets at crosswalks.\nBring your ID for check-in\nManage your alcohol intake; we reserve right to refuse serving anyone who appears to be intoxicated.
URL:https://www.cowcountry.us/event/10th-annual-shop-and-sip/
LOCATION:Downtown Elkhart Lake\, Elkhart Lake\, WI\, 53020\, United States
END:VEVENT
BEGIN:VEVENT
DTSTART;TZID=America/Chicago:20260425T150000
DTEND;TZID=America/Chicago:20260425T190000
DTSTAMP:20260421T041601
CREATED:20250408T165851Z
LAST-MODIFIED:20260318T162556Z
UID:1299-1777129200-1777143600@www.cowcountry.us
SUMMARY:Waldo Lions Pork Chop Dinner
DESCRIPTION:Waldo Lions 36 th Annual Pork Chop Dinner at the Waldo Memorial Hall on Saturday from 3 to 7.
URL:https://www.cowcountry.us/event/waldo-lions-pork-chop-dinner/
LOCATION:Waldo Memorial Hall\, 308 West First Street\, Waldo\, WI\, 53093\, United States
END:VEVENT
BEGIN:VEVENT
DTSTART;TZID=America/Chicago:20260425T160000
DTEND;TZID=America/Chicago:20260425T230000
DTSTAMP:20260421T041601
CREATED:20260403T172049Z
LAST-MODIFIED:20260403T172049Z
UID:2466-1777132800-1777158000@www.cowcountry.us
SUMMARY:Plymouth Dirt Track Racing
DESCRIPTION:Plymouth Dirt Track Racing Season opener is Saturday PDTR 360 Sprint Cars\, Grand Nationals\, and B Mods. Grandstand gates open at 4. Qualifying is at 4:30 and racing starts at 5.
URL:https://www.cowcountry.us/event/plymouth-dirt-track-racing-8/
LOCATION:Sheboygan County Fair Park\, 229 Fairview Drive\, Plymouth\, WI\, 53073
END:VEVENT
BEGIN:VEVENT
DTSTART;TZID=America/Chicago:20260425T193000
DTEND;TZID=America/Chicago:20260425T213000
DTSTAMP:20260421T041602
CREATED:20260323T174620Z
LAST-MODIFIED:20260323T174620Z
UID:2441-1777145400-1777152600@www.cowcountry.us
SUMMARY:Musical Potpourri by the PAC Singers
DESCRIPTION:Musical Potpourri by the Plymouth Arts Center Singers on Saturday from 7:30 to 9:30.
URL:https://www.cowcountry.us/event/musical-potpourri-by-the-pac-singers/
LOCATION:Plymouth Arts Center\, 520 East Mill Street\, Plymouth\, WI\, 53073
END:VEVENT
END:VCALENDAR