BEGIN:VCALENDAR
VERSION:2.0
PRODID:-//Cow Country Radio - ECPv6.15.20//NONSGML v1.0//EN
CALSCALE:GREGORIAN
METHOD:PUBLISH
X-WR-CALNAME:Cow Country Radio
X-ORIGINAL-URL:https://www.cowcountry.us
X-WR-CALDESC:Events for Cow Country Radio
REFRESH-INTERVAL;VALUE=DURATION:PT1H
X-Robots-Tag:noindex
X-PUBLISHED-TTL:PT1H
BEGIN:VTIMEZONE
TZID:America/Chicago
BEGIN:DAYLIGHT
TZOFFSETFROM:-0600
TZOFFSETTO:-0500
TZNAME:CDT
DTSTART:20220313T080000
END:DAYLIGHT
BEGIN:STANDARD
TZOFFSETFROM:-0500
TZOFFSETTO:-0600
TZNAME:CST
DTSTART:20221106T070000
END:STANDARD
BEGIN:DAYLIGHT
TZOFFSETFROM:-0600
TZOFFSETTO:-0500
TZNAME:CDT
DTSTART:20230312T080000
END:DAYLIGHT
BEGIN:STANDARD
TZOFFSETFROM:-0500
TZOFFSETTO:-0600
TZNAME:CST
DTSTART:20231105T070000
END:STANDARD
BEGIN:DAYLIGHT
TZOFFSETFROM:-0600
TZOFFSETTO:-0500
TZNAME:CDT
DTSTART:20240310T080000
END:DAYLIGHT
BEGIN:STANDARD
TZOFFSETFROM:-0500
TZOFFSETTO:-0600
TZNAME:CST
DTSTART:20241103T070000
END:STANDARD
END:VTIMEZONE
BEGIN:VEVENT
DTSTART;TZID=America/Chicago:20230513T100000
DTEND;TZID=America/Chicago:20230513T150000
DTSTAMP:20260423T075803
CREATED:20230511T131610Z
LAST-MODIFIED:20230511T131610Z
UID:409-1683972000-1683990000@www.cowcountry.us
SUMMARY:A Day on the Farm
DESCRIPTION:All proceeds will benefit Diamond Vu Agricultural Education Center’s Harvest Box program.  Working with Artists for the Humanities and the Center for Veterans Issues\, this program will provide locally raised produce for disabled military veterans who have been displaced. \n 
URL:https://www.cowcountry.us/event/a-day-on-the-farm/
LOCATION:WI
END:VEVENT
BEGIN:VEVENT
DTSTART;TZID=America/Chicago:20230430T110000
DTEND;TZID=America/Chicago:20230430T140000
DTSTAMP:20260423T075803
CREATED:20230424T182739Z
LAST-MODIFIED:20230424T182739Z
UID:264-1682852400-1682863200@www.cowcountry.us
SUMMARY:Plymouth Fire Department Chicken BBQ
DESCRIPTION:Plymouth Fire Department Chicken BBQ at the fire station!
URL:https://www.cowcountry.us/event/plymouth-fire-department-chicken-bbq/
LOCATION:Plymouth Fire Station\, 111 East Main Street\, Plymouth\, WI\, 53073
END:VEVENT
BEGIN:VEVENT
DTSTART;TZID=America/Chicago:20230429T160000
DTEND;TZID=America/Chicago:20230429T210000
DTSTAMP:20260423T075803
CREATED:20230424T182015Z
LAST-MODIFIED:20230425T133337Z
UID:258-1682784000-1682802000@www.cowcountry.us
SUMMARY:Plymouth Dirt Track Racing
DESCRIPTION:Opening Night for Plymouth Dirt Track Racing at The Sheboygan County Fair Park. \nGate opens at 4:00 pm. \nOn track action starts at 5:00 pm
URL:https://www.cowcountry.us/event/plymouth-dirt-track-racing/
LOCATION:Sheboygan County Fair Park\, 229 Fairview Drive\, Plymouth\, WI\, 53073
END:VEVENT
BEGIN:VEVENT
DTSTART;TZID=America/Chicago:20230428T193000
DTEND;TZID=America/Chicago:20230428T193000
DTSTAMP:20260423T075803
CREATED:20230424T175703Z
LAST-MODIFIED:20230424T175703Z
UID:246-1682710200-1682710200@www.cowcountry.us
SUMMARY:A Night At The Opera
DESCRIPTION:The Plymouth Arts Center proudly presents “A Night at the Opera\,” a special recital showcasing Sherry Joseph\, soprano\, and Christopher Guy\, tenor.  The recital will be held Friday\, April 28\, 2023 at 7:30 pm and is a fundraiser for the Fine Arts and Music Departments of Plymouth High School\, Sheboygan Falls High School\, and the Plymouth Arts Center.  Pianist Emile Blasczyk will accompany the duo.
URL:https://www.cowcountry.us/event/a-night-at-the-opera/
LOCATION:Plymouth Arts Center\, 520 East Mill Street\, Plymouth\, WI\, 53073
END:VEVENT
END:VCALENDAR